BEGIN:VCALENDAR
VERSION:2.0
PRODID:-//The Three Tuns - ECPv6.15.17.1//NONSGML v1.0//EN
CALSCALE:GREGORIAN
METHOD:PUBLISH
X-WR-CALNAME:The Three Tuns
X-ORIGINAL-URL:https://threetunsgateshead.co.uk
X-WR-CALDESC:Events for The Three Tuns
REFRESH-INTERVAL;VALUE=DURATION:PT1H
X-Robots-Tag:noindex
X-PUBLISHED-TTL:PT1H
BEGIN:VTIMEZONE
TZID:Europe/London
BEGIN:DAYLIGHT
TZOFFSETFROM:+0000
TZOFFSETTO:+0100
TZNAME:BST
DTSTART:20250330T010000
END:DAYLIGHT
BEGIN:STANDARD
TZOFFSETFROM:+0100
TZOFFSETTO:+0000
TZNAME:GMT
DTSTART:20251026T010000
END:STANDARD
BEGIN:DAYLIGHT
TZOFFSETFROM:+0000
TZOFFSETTO:+0100
TZNAME:BST
DTSTART:20260329T010000
END:DAYLIGHT
BEGIN:STANDARD
TZOFFSETFROM:+0100
TZOFFSETTO:+0000
TZNAME:GMT
DTSTART:20261025T010000
END:STANDARD
BEGIN:DAYLIGHT
TZOFFSETFROM:+0000
TZOFFSETTO:+0100
TZNAME:BST
DTSTART:20270328T010000
END:DAYLIGHT
BEGIN:STANDARD
TZOFFSETFROM:+0100
TZOFFSETTO:+0000
TZNAME:GMT
DTSTART:20271031T010000
END:STANDARD
END:VTIMEZONE
BEGIN:VEVENT
DTSTART;TZID=Europe/London:20260424T200000
DTEND;TZID=Europe/London:20260424T223000
DTSTAMP:20260423T110638
CREATED:20260225T232938Z
LAST-MODIFIED:20260225T232946Z
UID:1108-1777060800-1777069800@threetunsgateshead.co.uk
SUMMARY:FRI 24 APR: Blitzkrieg + Yesterday's Heroes
DESCRIPTION:This one is rescheduled from last year\, and we can’t wait. Blitzkrieg are a punk band with a long history\, and have been recording and performing since the 70’s. \n\n\n\nAnd of course we all know Yesterday’s Heroes\, as three of our own- Lewis Johnson\, Tony and Scott Tulip and the rest of the band\, bringing their great set of punk covers and originals back to the Three Tuns.
URL:https://threetunsgateshead.co.uk/event/fri-24-apr-blitzkrieg-yesterdays-heroes/
LOCATION:The Three Tuns\, 92 Sheriff's Highway\, Gateshead\, NE9 5SD\, United Kingdom
CATEGORIES:Upcoming Events
ATTACH;FMTTYPE=image/webp:https://threetunsgateshead.co.uk/wp-content/uploads/2026/02/blitzkreig_002.webp
END:VEVENT
BEGIN:VEVENT
DTSTART;TZID=Europe/London:20260509T203000
DTEND;TZID=Europe/London:20260509T223000
DTSTAMP:20260423T110638
CREATED:20260225T235717Z
LAST-MODIFIED:20260226T000630Z
UID:1113-1778358600-1778365800@threetunsgateshead.co.uk
SUMMARY:SAT 9 MAY: Jake Dixon & The Cosmic Echo
DESCRIPTION:This is a new one for The Tuns\, but we’re really looking forward to it. It’s a band that’s hard to pigeonhole\, but their blend of indie and synth rock has a very 80’s vibe. Originals and covers.
URL:https://threetunsgateshead.co.uk/event/sat-9-may-jake-dixon-the-cosmic-echo/
LOCATION:The Three Tuns\, 92 Sheriff's Highway\, Gateshead\, NE9 5SD\, United Kingdom
CATEGORIES:Upcoming Events
ATTACH;FMTTYPE=image/webp:https://threetunsgateshead.co.uk/wp-content/uploads/2026/02/jake_dixon_002.webp
END:VEVENT
BEGIN:VEVENT
DTSTART;TZID=Europe/London:20260515T203000
DTEND;TZID=Europe/London:20260515T223000
DTSTAMP:20260423T110638
CREATED:20260226T002142Z
LAST-MODIFIED:20260226T002200Z
UID:1117-1778877000-1778884200@threetunsgateshead.co.uk
SUMMARY:FRI 15 MAY: Giroscope
DESCRIPTION:North East favourites return to the Tuns stage\, with their eclectic mix of standards and unusual picks.  From Pink Floyd to The Police; From ELO to Eagles\, it’s a varied setlist that also includes Sparks\, Deep Purple and Emerson Lake and Palmer.
URL:https://threetunsgateshead.co.uk/event/fri-15-may-giroscope/
LOCATION:The Three Tuns\, 92 Sheriff's Highway\, Gateshead\, NE9 5SD\, United Kingdom
CATEGORIES:Upcoming Events
ATTACH;FMTTYPE=image/webp:https://threetunsgateshead.co.uk/wp-content/uploads/2026/02/giroscope_002.webp
END:VEVENT
BEGIN:VEVENT
DTSTART;TZID=Europe/London:20260523T080000
DTEND;TZID=Europe/London:20260523T170000
DTSTAMP:20260423T110638
CREATED:20260224T205736Z
LAST-MODIFIED:20260225T233852Z
UID:1080-1779523200-1779555600@threetunsgateshead.co.uk
SUMMARY:SAT 23 MAY: Rigid Digits
DESCRIPTION:No intro necessary for Rigid Digits; impeccable Stiff Little Fingers tribute\, and a great show.
URL:https://threetunsgateshead.co.uk/event/sat-23-may-rigid-digits/
LOCATION:The Three Tuns\, 92 Sheriff's Highway\, Gateshead\, NE9 5SD\, United Kingdom
CATEGORIES:Upcoming Events
ATTACH;FMTTYPE=image/webp:https://threetunsgateshead.co.uk/wp-content/uploads/2026/02/rigid_digits.webp
END:VEVENT
BEGIN:VEVENT
DTSTART;TZID=Europe/London:20260529T203000
DTEND;TZID=Europe/London:20260529T223000
DTSTAMP:20260423T110638
CREATED:20260225T210935Z
LAST-MODIFIED:20260225T210947Z
UID:1083-1780086600-1780093800@threetunsgateshead.co.uk
SUMMARY:FRI 29 MAY: 335 Band (Pat McMahon)
DESCRIPTION:335 Band are a new name\, and we’re going to be only their fifth gig\, but when Pat McMahon brings a band to us\, we’re not going to say no. Joined by John Taylor on bass and Ian Hamilton on drums\, we know we’ll be in for a treat.
URL:https://threetunsgateshead.co.uk/event/fri-29-may-335-band-pat-mcmahon/
LOCATION:The Three Tuns\, 92 Sheriff's Highway\, Gateshead\, NE9 5SD\, United Kingdom
CATEGORIES:Upcoming Events
ATTACH;FMTTYPE=image/webp:https://threetunsgateshead.co.uk/wp-content/uploads/2026/02/335_BAND_001.webp
END:VEVENT
BEGIN:VEVENT
DTSTART;TZID=Europe/London:20260606T203000
DTEND;TZID=Europe/London:20260606T223000
DTSTAMP:20260423T110638
CREATED:20260404T202711Z
LAST-MODIFIED:20260404T202719Z
UID:1215-1780777800-1780785000@threetunsgateshead.co.uk
SUMMARY:SAT 6 JUN: The Abominable Showmen
DESCRIPTION:What a hoot these guys are\, and always bring a lively show- and all in a good cause too!
URL:https://threetunsgateshead.co.uk/event/sat-6-jun-the-abominable-showmen/
LOCATION:The Three Tuns\, 92 Sheriff's Highway\, Gateshead\, NE9 5SD\, United Kingdom
CATEGORIES:Upcoming Events
ATTACH;FMTTYPE=image/webp:https://threetunsgateshead.co.uk/wp-content/uploads/2026/04/abominable_001.webp
END:VEVENT
BEGIN:VEVENT
DTSTART;TZID=Europe/London:20260626T203000
DTEND;TZID=Europe/London:20260626T223000
DTSTAMP:20260423T110638
CREATED:20260404T195905Z
LAST-MODIFIED:20260404T195911Z
UID:1207-1782505800-1782513000@threetunsgateshead.co.uk
SUMMARY:FRI 26 JUN: Tubesnake
DESCRIPTION:Tubesnake are always a popular shout. Expect some Doors\, Rolling Stones\, REM and Bowie\, among others.
URL:https://threetunsgateshead.co.uk/event/fri-26-jun-tubesnake/
LOCATION:The Three Tuns\, 92 Sheriff's Highway\, Gateshead\, NE9 5SD\, United Kingdom
CATEGORIES:Upcoming Events
ATTACH;FMTTYPE=image/webp:https://threetunsgateshead.co.uk/wp-content/uploads/2026/04/tubesnake_logo_001.webp
END:VEVENT
BEGIN:VEVENT
DTSTART;TZID=Europe/London:20260627T203000
DTEND;TZID=Europe/London:20260627T223000
DTSTAMP:20260423T110638
CREATED:20260404T200553Z
LAST-MODIFIED:20260404T200601Z
UID:1213-1782592200-1782599400@threetunsgateshead.co.uk
SUMMARY:SAT 27 JUN: Toxic
DESCRIPTION:Toxic are always able to get the Tuns filled\, with one of the best punk covers setlists around.
URL:https://threetunsgateshead.co.uk/event/sat-27-jun-toxic/
LOCATION:The Three Tuns\, 92 Sheriff's Highway\, Gateshead\, NE9 5SD\, United Kingdom
CATEGORIES:Upcoming Events
ATTACH;FMTTYPE=image/webp:https://threetunsgateshead.co.uk/wp-content/uploads/2026/01/toxic.webp
END:VEVENT
BEGIN:VEVENT
DTSTART;TZID=Europe/London:20260703T203000
DTEND;TZID=Europe/London:20260703T223000
DTSTAMP:20260423T110638
CREATED:20260225T221114Z
LAST-MODIFIED:20260225T221124Z
UID:1088-1783110600-1783117800@threetunsgateshead.co.uk
SUMMARY:FRI 3 JUL: Red Hot Chilipinos
DESCRIPTION:You guys asked us for these back\, and how could we resist. A rocking night of Red Hot Chili Peppers covers\, guaranteed to impress.
URL:https://threetunsgateshead.co.uk/event/fri-3-jul-red-hot-chilipinos/
LOCATION:The Three Tuns\, 92 Sheriff's Highway\, Gateshead\, NE9 5SD\, United Kingdom
CATEGORIES:Upcoming Events
ATTACH;FMTTYPE=image/webp:https://threetunsgateshead.co.uk/wp-content/uploads/2026/02/red_hot_chilipinos_001-1.webp
END:VEVENT
END:VCALENDAR