BEGIN:VCALENDAR
VERSION:2.0
PRODID:-//The Three Tuns - ECPv6.15.17.1//NONSGML v1.0//EN
CALSCALE:GREGORIAN
METHOD:PUBLISH
X-ORIGINAL-URL:https://threetunsgateshead.co.uk
X-WR-CALDESC:Events for The Three Tuns
REFRESH-INTERVAL;VALUE=DURATION:PT1H
X-Robots-Tag:noindex
X-PUBLISHED-TTL:PT1H
BEGIN:VTIMEZONE
TZID:Europe/London
BEGIN:DAYLIGHT
TZOFFSETFROM:+0000
TZOFFSETTO:+0100
TZNAME:BST
DTSTART:20240331T010000
END:DAYLIGHT
BEGIN:STANDARD
TZOFFSETFROM:+0100
TZOFFSETTO:+0000
TZNAME:GMT
DTSTART:20241027T010000
END:STANDARD
BEGIN:DAYLIGHT
TZOFFSETFROM:+0000
TZOFFSETTO:+0100
TZNAME:BST
DTSTART:20250330T010000
END:DAYLIGHT
BEGIN:STANDARD
TZOFFSETFROM:+0100
TZOFFSETTO:+0000
TZNAME:GMT
DTSTART:20251026T010000
END:STANDARD
BEGIN:DAYLIGHT
TZOFFSETFROM:+0000
TZOFFSETTO:+0100
TZNAME:BST
DTSTART:20260329T010000
END:DAYLIGHT
BEGIN:STANDARD
TZOFFSETFROM:+0100
TZOFFSETTO:+0000
TZNAME:GMT
DTSTART:20261025T010000
END:STANDARD
END:VTIMEZONE
BEGIN:VEVENT
DTSTART;TZID=Europe/London:20251003T080000
DTEND;TZID=Europe/London:20251003T170000
DTSTAMP:20260425T120040
CREATED:20250830T165436Z
LAST-MODIFIED:20250908T182138Z
UID:234-1759478400-1759510800@threetunsgateshead.co.uk
SUMMARY:FRI 3 0CT: Outcast Syndicate
DESCRIPTION:A great band with a whole load of original rock tunes with a layer of punkiness. We’re definitely looking forward to these. That girl can sing!
URL:https://threetunsgateshead.co.uk/event/fri-3-0ct-outcast-syndicate-dirt-monkey/
LOCATION:The Three Tuns\, 92 Sheriff's Highway\, Gateshead\, NE9 5SD\, United Kingdom
CATEGORIES:Upcoming Events
ATTACH;FMTTYPE=image/jpeg:https://threetunsgateshead.co.uk/wp-content/uploads/2025/08/OUTCAST-SYNDICATE-e1756574058826.jpg
END:VEVENT
BEGIN:VEVENT
DTSTART;TZID=Europe/London:20251005T140000
DTEND;TZID=Europe/London:20251005T180000
DTSTAMP:20260425T120040
CREATED:20250904T045115Z
LAST-MODIFIED:20250917T190214Z
UID:327-1759672800-1759687200@threetunsgateshead.co.uk
SUMMARY:SUN 5 OCT: VINTAGE RECORD SALE
DESCRIPTION:A must for fans of everything vinyl. We are hosting a record fair with Northern Rocks 2 Vintage Vinyl /@Northern Rocks Vintage Vinyl at Kiwi Trading\, Hartlepool’s ONLY Vinyl Emporium. All Records Bought and Sold. Over 20\,000 albums and even more 45’s in stock! \n\n\n\nAll genres covered come hunt out the gem youve always been looking for. \n\n\n\nVinyl will be set up onstage with a chance to listen before you buy.
URL:https://threetunsgateshead.co.uk/event/sun-5-oct-vintage-record-sale/
LOCATION:The Three Tuns\, 92 Sheriff's Highway\, Gateshead\, NE9 5SD\, United Kingdom
CATEGORIES:Upcoming Events
ATTACH;FMTTYPE=image/jpeg:https://threetunsgateshead.co.uk/wp-content/uploads/2025/09/record_fair-e1756961350878.jpg
END:VEVENT
BEGIN:VEVENT
DTSTART;TZID=Europe/London:20251010T203000
DTEND;TZID=Europe/London:20251010T223000
DTSTAMP:20260425T120040
CREATED:20250830T153925Z
LAST-MODIFIED:20251010T195608Z
UID:217-1760128200-1760135400@threetunsgateshead.co.uk
SUMMARY:FRI 10 OCT: Red Hot Chillipinos (RHCP covers band)
DESCRIPTION:We have had these on before\, and as we (and you lot) were so impressed with them we’ve brought them straight back. Expect all your Chili Peppers favourites\, and a few less well known tracks too.
URL:https://threetunsgateshead.co.uk/event/fri-10-oct-red-hot-chillipinos-rhcp-covers-band/
LOCATION:The Three Tuns\, 92 Sheriff's Highway\, Gateshead\, NE9 5SD\, United Kingdom
CATEGORIES:Upcoming Events
ATTACH;FMTTYPE=image/png:https://threetunsgateshead.co.uk/wp-content/uploads/2025/08/band_chillipinos_logo_001-e1756568155610.png
END:VEVENT
BEGIN:VEVENT
DTSTART;TZID=Europe/London:20251018T203000
DTEND;TZID=Europe/London:20251018T203000
DTSTAMP:20260425T120040
CREATED:20250830T180236Z
LAST-MODIFIED:20251015T200030Z
UID:242-1760819400-1760819400@threetunsgateshead.co.uk
SUMMARY:SAT 18 OCT: Mojave
DESCRIPTION:Punk\, New Wave and poppy classics. Expect some Blondie\, Bowie and Buzzcocks and lots more besides.
URL:https://threetunsgateshead.co.uk/event/sat-18-oct-mojave/
LOCATION:The Three Tuns\, 92 Sheriff's Highway\, Gateshead\, NE9 5SD\, United Kingdom
CATEGORIES:Upcoming Events
ATTACH;FMTTYPE=image/png:https://threetunsgateshead.co.uk/wp-content/uploads/2025/08/mojave_logo-e1756577652832.png
END:VEVENT
BEGIN:VEVENT
DTSTART;TZID=Europe/London:20251024T203000
DTEND;TZID=Europe/London:20251024T223000
DTSTAMP:20260425T120040
CREATED:20250831T001600Z
LAST-MODIFIED:20250925T115318Z
UID:248-1761337800-1761345000@threetunsgateshead.co.uk
SUMMARY:FRI 24 OCT: Garageland UK
DESCRIPTION:Garageland UK are a North Yorkshire band bringing some great punk classics for their Tuns debut. \n\n\n\nPlease note\, this replaces the previously advertised Detonators.
URL:https://threetunsgateshead.co.uk/event/fri-24-oct-the-garagelanduk/
LOCATION:The Three Tuns\, 92 Sheriff's Highway\, Gateshead\, NE9 5SD\, United Kingdom
CATEGORIES:Upcoming Events
ATTACH;FMTTYPE=image/jpeg:https://threetunsgateshead.co.uk/wp-content/uploads/2025/08/garageland-UK3-e1758801180295.jpg
END:VEVENT
BEGIN:VEVENT
DTSTART;TZID=Europe/London:20251025T203000
DTEND;TZID=Europe/London:20251025T203000
DTSTAMP:20260425T120040
CREATED:20250818T013827Z
LAST-MODIFIED:20250830T155014Z
UID:200-1761424200-1761424200@threetunsgateshead.co.uk
SUMMARY:SAT 25 OCT: Punk Pop Disaster
DESCRIPTION:It is a guaranteed party when these guys are on the stage. \nFor the very best of American Punk Pop this is where you need to be. There’ll be Green Day\, Alien Ant Farm and all of your favourites.
URL:https://threetunsgateshead.co.uk/event/sat-25-oct-punk-pop-disaster/
LOCATION:The Three Tuns\, 92 Sheriff's Highway\, Gateshead\, NE9 5SD\, United Kingdom
CATEGORIES:Upcoming Events
ATTACH;FMTTYPE=image/jpeg:https://threetunsgateshead.co.uk/wp-content/uploads/2025/08/logo_punkpd-e1755480875800.jpg
END:VEVENT
BEGIN:VEVENT
DTSTART;TZID=Europe/London:20251031T203000
DTEND;TZID=Europe/London:20251031T233000
DTSTAMP:20260425T120040
CREATED:20250830T213309Z
LAST-MODIFIED:20251018T233627Z
UID:245-1761942600-1761953400@threetunsgateshead.co.uk
SUMMARY:FRI 31 OCT: Manny Fagnet Halloween Party
DESCRIPTION:A Three Tuns Halloween Party is always a memorable night\, and this year we’ll have Manny Fagnet to see in the spookiness. \n\n\n\nThis year they’re bringing friends from Cumbria too; the excellent Damaged Goods! \n\n\n\nFancy dress encouraged! \n\n\n\nFind out all about Manny Fagnet here
URL:https://threetunsgateshead.co.uk/event/fri-31-oct-manny-fagnet-halloween-party/
LOCATION:The Three Tuns\, 92 Sheriff's Highway\, Gateshead\, NE9 5SD\, United Kingdom
CATEGORIES:Manny Fagnet,Upcoming Events
ATTACH;FMTTYPE=image/png:https://threetunsgateshead.co.uk/wp-content/uploads/2025/08/band_fagnet_logo_001-e1756640590967.png
END:VEVENT
END:VCALENDAR