BEGIN:VCALENDAR
VERSION:2.0
PRODID:-//The Three Tuns - ECPv6.15.17.1//NONSGML v1.0//EN
CALSCALE:GREGORIAN
METHOD:PUBLISH
X-WR-CALNAME:The Three Tuns
X-ORIGINAL-URL:https://threetunsgateshead.co.uk
X-WR-CALDESC:Events for The Three Tuns
REFRESH-INTERVAL;VALUE=DURATION:PT1H
X-Robots-Tag:noindex
X-PUBLISHED-TTL:PT1H
BEGIN:VTIMEZONE
TZID:Europe/London
BEGIN:DAYLIGHT
TZOFFSETFROM:+0000
TZOFFSETTO:+0100
TZNAME:BST
DTSTART:20240331T010000
END:DAYLIGHT
BEGIN:STANDARD
TZOFFSETFROM:+0100
TZOFFSETTO:+0000
TZNAME:GMT
DTSTART:20241027T010000
END:STANDARD
BEGIN:DAYLIGHT
TZOFFSETFROM:+0000
TZOFFSETTO:+0100
TZNAME:BST
DTSTART:20250330T010000
END:DAYLIGHT
BEGIN:STANDARD
TZOFFSETFROM:+0100
TZOFFSETTO:+0000
TZNAME:GMT
DTSTART:20251026T010000
END:STANDARD
BEGIN:DAYLIGHT
TZOFFSETFROM:+0000
TZOFFSETTO:+0100
TZNAME:BST
DTSTART:20260329T010000
END:DAYLIGHT
BEGIN:STANDARD
TZOFFSETFROM:+0100
TZOFFSETTO:+0000
TZNAME:GMT
DTSTART:20261025T010000
END:STANDARD
BEGIN:DAYLIGHT
TZOFFSETFROM:+0000
TZOFFSETTO:+0100
TZNAME:BST
DTSTART:20270328T010000
END:DAYLIGHT
BEGIN:STANDARD
TZOFFSETFROM:+0100
TZOFFSETTO:+0000
TZNAME:GMT
DTSTART:20271031T010000
END:STANDARD
END:VTIMEZONE
BEGIN:VEVENT
DTSTART;TZID=Europe/London:20251231T203000
DTEND;TZID=Europe/London:20260101T003000
DTSTAMP:20260423T181625
CREATED:20251127T150737Z
LAST-MODIFIED:20251219T123738Z
UID:810-1767213000-1767227400@threetunsgateshead.co.uk
SUMMARY:NEW YEAR'S PARTY with Manny Fagnet
DESCRIPTION:The Three Tuns New Year Party is always an event much looked forward to on the calendar\, and we’ve had some amazing bands to see the year out\, and this year it falls to Manny Fagnet to count us down. \n\n\n\nJoin us and the boys for the launch of 2026.
URL:https://threetunsgateshead.co.uk/event/new-years-party-with-manny-fagnet/
LOCATION:The Three Tuns\, 92 Sheriff's Highway\, Gateshead\, NE9 5SD\, United Kingdom
CATEGORIES:Manny Fagnet,Upcoming Events
ATTACH;FMTTYPE=image/jpeg:https://threetunsgateshead.co.uk/wp-content/uploads/2025/10/manny_fagnet_007.jpg
END:VEVENT
BEGIN:VEVENT
DTSTART;TZID=Europe/London:20260109T203000
DTEND;TZID=Europe/London:20260109T223000
DTSTAMP:20260423T181625
CREATED:20260108T130447Z
LAST-MODIFIED:20260108T195250Z
UID:944-1767990600-1767997800@threetunsgateshead.co.uk
SUMMARY:Fri 9 Jan: UNDERCOVER
DESCRIPTION:Classic rock band Undercover make their Tuns debut this Friday. \n\n\n\nIt’s a set that includes Van Halen\, Bryan Adams\, Bon Jovi\, Thin Lizzy\, Killers\, AC/DC and many more anthems.
URL:https://threetunsgateshead.co.uk/event/jan-6-undercover/
LOCATION:The Three Tuns\, 92 Sheriff's Highway\, Gateshead\, NE9 5SD\, United Kingdom
CATEGORIES:Upcoming Events
ATTACH;FMTTYPE=image/webp:https://threetunsgateshead.co.uk/wp-content/uploads/2026/01/undercover.webp
END:VEVENT
BEGIN:VEVENT
DTSTART;TZID=Europe/London:20260116T203000
DTEND;TZID=Europe/London:20260116T223000
DTSTAMP:20260423T181625
CREATED:20260108T191815Z
LAST-MODIFIED:20260108T195402Z
UID:948-1768595400-1768602600@threetunsgateshead.co.uk
SUMMARY:Fri 16 Jan: DANNY NEEDHAM EXPLOSION
DESCRIPTION:When you combine the percussive talent that is Danny Needham\, with north east guitar royalty Russ Tippins\, and the remarkable bass of Craig Stephenson\, you’re guaranteed some “doors-blown-off” rock. Does anyone do it better?
URL:https://threetunsgateshead.co.uk/event/jan-16-danny-needham-explosion/
LOCATION:The Three Tuns\, 92 Sheriff's Highway\, Gateshead\, NE9 5SD\, United Kingdom
CATEGORIES:Upcoming Events
ATTACH;FMTTYPE=image/webp:https://threetunsgateshead.co.uk/wp-content/uploads/2026/01/DANNY_004.webp
END:VEVENT
BEGIN:VEVENT
DTSTART;TZID=Europe/London:20260123T203000
DTEND;TZID=Europe/London:20260123T223000
DTSTAMP:20260423T181625
CREATED:20260108T195003Z
LAST-MODIFIED:20260108T195012Z
UID:956-1769200200-1769207400@threetunsgateshead.co.uk
SUMMARY:Fri 23 Jan: SKYCLAD
DESCRIPTION:We are beyond honoured that folk metal pioneers Skyclad have chosen The Three Tuns for their warm up gig before heading out on their tour. This is definitely not one to be missed.
URL:https://threetunsgateshead.co.uk/event/fri-23-jan-skyclad/
LOCATION:The Three Tuns\, 92 Sheriff's Highway\, Gateshead\, NE9 5SD\, United Kingdom
CATEGORIES:Upcoming Events
ATTACH;FMTTYPE=image/webp:https://threetunsgateshead.co.uk/wp-content/uploads/2026/01/skyclad_002.webp
END:VEVENT
BEGIN:VEVENT
DTSTART;TZID=Europe/London:20260124T203000
DTEND;TZID=Europe/London:20260124T223000
DTSTAMP:20260423T181625
CREATED:20260109T003058Z
LAST-MODIFIED:20260109T003106Z
UID:966-1769286600-1769293800@threetunsgateshead.co.uk
SUMMARY:Sat 24 Jan: MT ARMS
DESCRIPTION:Loud Electric Rhythm and Blues.
URL:https://threetunsgateshead.co.uk/event/sat-24-jan-mt-arms/
LOCATION:The Three Tuns\, 92 Sheriff's Highway\, Gateshead\, NE9 5SD\, United Kingdom
CATEGORIES:Upcoming Events
ATTACH;FMTTYPE=image/webp:https://threetunsgateshead.co.uk/wp-content/uploads/2026/01/MTArms_001.webp
END:VEVENT
BEGIN:VEVENT
DTSTART;TZID=Europe/London:20260130T203000
DTEND;TZID=Europe/London:20260130T220000
DTSTAMP:20260423T181625
CREATED:20260109T001053Z
LAST-MODIFIED:20260109T143914Z
UID:963-1769805000-1769810400@threetunsgateshead.co.uk
SUMMARY:Fri 30 Jan: MOJAVE
DESCRIPTION:Punk\, New Wave and poppy classics. Expect some Blondie\, Bowie and Buzzcocks and lots more besides.
URL:https://threetunsgateshead.co.uk/event/fri-30-jan-hybrids/
LOCATION:The Three Tuns\, 92 Sheriff's Highway\, Gateshead\, NE9 5SD\, United Kingdom
CATEGORIES:Upcoming Events
ATTACH;FMTTYPE=image/webp:https://threetunsgateshead.co.uk/wp-content/uploads/2026/01/mojave_logo.webp
END:VEVENT
BEGIN:VEVENT
DTSTART;TZID=Europe/London:20260131T203000
DTEND;TZID=Europe/London:20260131T223000
DTSTAMP:20260423T181625
CREATED:20260113T230233Z
LAST-MODIFIED:20260113T230242Z
UID:994-1769891400-1769898600@threetunsgateshead.co.uk
SUMMARY:Sat 31 Jan: THE LOCAL HEROES
DESCRIPTION:A new one for The Tuns\, this new band celebrates the best of North East music\, from The Animals to Sam Fender\, via Police\, Dire Straits and Lindisfarne.
URL:https://threetunsgateshead.co.uk/event/sat-31-jan-the-local-heroes/
LOCATION:The Three Tuns\, 92 Sheriff's Highway\, Gateshead\, NE9 5SD\, United Kingdom
CATEGORIES:Upcoming Events
ATTACH;FMTTYPE=image/webp:https://threetunsgateshead.co.uk/wp-content/uploads/2026/01/local_heroes_001.webp
END:VEVENT
END:VCALENDAR