BEGIN:VCALENDAR
VERSION:2.0
PRODID:-//The Three Tuns - ECPv6.15.17.1//NONSGML v1.0//EN
CALSCALE:GREGORIAN
METHOD:PUBLISH
X-WR-CALNAME:The Three Tuns
X-ORIGINAL-URL:https://threetunsgateshead.co.uk
X-WR-CALDESC:Events for The Three Tuns
REFRESH-INTERVAL;VALUE=DURATION:PT1H
X-Robots-Tag:noindex
X-PUBLISHED-TTL:PT1H
BEGIN:VTIMEZONE
TZID:Europe/London
BEGIN:DAYLIGHT
TZOFFSETFROM:+0000
TZOFFSETTO:+0100
TZNAME:BST
DTSTART:20240331T010000
END:DAYLIGHT
BEGIN:STANDARD
TZOFFSETFROM:+0100
TZOFFSETTO:+0000
TZNAME:GMT
DTSTART:20241027T010000
END:STANDARD
BEGIN:DAYLIGHT
TZOFFSETFROM:+0000
TZOFFSETTO:+0100
TZNAME:BST
DTSTART:20250330T010000
END:DAYLIGHT
BEGIN:STANDARD
TZOFFSETFROM:+0100
TZOFFSETTO:+0000
TZNAME:GMT
DTSTART:20251026T010000
END:STANDARD
BEGIN:DAYLIGHT
TZOFFSETFROM:+0000
TZOFFSETTO:+0100
TZNAME:BST
DTSTART:20260329T010000
END:DAYLIGHT
BEGIN:STANDARD
TZOFFSETFROM:+0100
TZOFFSETTO:+0000
TZNAME:GMT
DTSTART:20261025T010000
END:STANDARD
END:VTIMEZONE
BEGIN:VEVENT
DTSTART;TZID=Europe/London:20251031T203000
DTEND;TZID=Europe/London:20251031T233000
DTSTAMP:20260425T174010
CREATED:20250830T213309Z
LAST-MODIFIED:20251018T233627Z
UID:245-1761942600-1761953400@threetunsgateshead.co.uk
SUMMARY:FRI 31 OCT: Manny Fagnet Halloween Party
DESCRIPTION:A Three Tuns Halloween Party is always a memorable night\, and this year we’ll have Manny Fagnet to see in the spookiness. \n\n\n\nThis year they’re bringing friends from Cumbria too; the excellent Damaged Goods! \n\n\n\nFancy dress encouraged! \n\n\n\nFind out all about Manny Fagnet here
URL:https://threetunsgateshead.co.uk/event/fri-31-oct-manny-fagnet-halloween-party/
LOCATION:The Three Tuns\, 92 Sheriff's Highway\, Gateshead\, NE9 5SD\, United Kingdom
CATEGORIES:Manny Fagnet,Upcoming Events
ATTACH;FMTTYPE=image/png:https://threetunsgateshead.co.uk/wp-content/uploads/2025/08/band_fagnet_logo_001-e1756640590967.png
END:VEVENT
END:VCALENDAR