BEGIN:VCALENDAR
VERSION:2.0
PRODID:-//The Three Tuns - ECPv6.15.17.1//NONSGML v1.0//EN
CALSCALE:GREGORIAN
METHOD:PUBLISH
X-WR-CALNAME:The Three Tuns
X-ORIGINAL-URL:https://threetunsgateshead.co.uk
X-WR-CALDESC:Events for The Three Tuns
REFRESH-INTERVAL;VALUE=DURATION:PT1H
X-Robots-Tag:noindex
X-PUBLISHED-TTL:PT1H
BEGIN:VTIMEZONE
TZID:Europe/London
BEGIN:DAYLIGHT
TZOFFSETFROM:+0000
TZOFFSETTO:+0100
TZNAME:BST
DTSTART:20240331T010000
END:DAYLIGHT
BEGIN:STANDARD
TZOFFSETFROM:+0100
TZOFFSETTO:+0000
TZNAME:GMT
DTSTART:20241027T010000
END:STANDARD
BEGIN:DAYLIGHT
TZOFFSETFROM:+0000
TZOFFSETTO:+0100
TZNAME:BST
DTSTART:20250330T010000
END:DAYLIGHT
BEGIN:STANDARD
TZOFFSETFROM:+0100
TZOFFSETTO:+0000
TZNAME:GMT
DTSTART:20251026T010000
END:STANDARD
BEGIN:DAYLIGHT
TZOFFSETFROM:+0000
TZOFFSETTO:+0100
TZNAME:BST
DTSTART:20260329T010000
END:DAYLIGHT
BEGIN:STANDARD
TZOFFSETFROM:+0100
TZOFFSETTO:+0000
TZNAME:GMT
DTSTART:20261025T010000
END:STANDARD
END:VTIMEZONE
BEGIN:VEVENT
DTSTART;TZID=Europe/London:20251114T203000
DTEND;TZID=Europe/London:20251114T203000
DTSTAMP:20260423T154319
CREATED:20250830T174121Z
LAST-MODIFIED:20250830T174911Z
UID:239-1763152200-1763152200@threetunsgateshead.co.uk
SUMMARY:FRI 14 NOV: The Jexit (Japanese Jam tribute)
DESCRIPTION:Yes\, you read that right. The Jexit are a Jam tribute\, and they’re coming all the way from Japan\, and they loved The Tuns so much last time they’re playing for us again. \nIt is going to be very special.
URL:https://threetunsgateshead.co.uk/event/fri-14-nov-the-jexit-japanese-jam-tribute/
LOCATION:The Three Tuns\, 92 Sheriff's Highway\, Gateshead\, NE9 5SD\, United Kingdom
CATEGORIES:Upcoming Events
ATTACH;FMTTYPE=image/png:https://threetunsgateshead.co.uk/wp-content/uploads/2025/08/jexit-e1756575976174.png
END:VEVENT
BEGIN:VEVENT
DTSTART;TZID=Europe/London:20251108T203000
DTEND;TZID=Europe/London:20251108T203000
DTSTAMP:20260423T154319
CREATED:20250831T113143Z
LAST-MODIFIED:20251105T141747Z
UID:259-1762633800-1762633800@threetunsgateshead.co.uk
SUMMARY:CANCELLED SAT 8 NOV: Rigid Digits
DESCRIPTION:sorry- this event will be rescheduled in the new year.
URL:https://threetunsgateshead.co.uk/event/sat-8-nov-rigid-digits-stiff-little-fingers-tribute/
LOCATION:The Three Tuns\, 92 Sheriff's Highway\, Gateshead\, NE9 5SD\, United Kingdom
CATEGORIES:Upcoming Events
ATTACH;FMTTYPE=image/jpeg:https://threetunsgateshead.co.uk/wp-content/uploads/2025/08/rigid_digits-e1756640233449.jpg
END:VEVENT
BEGIN:VEVENT
DTSTART;TZID=Europe/London:20251107T203000
DTEND;TZID=Europe/London:20251107T203000
DTSTAMP:20260423T154319
CREATED:20250831T112021Z
LAST-MODIFIED:20250831T112304Z
UID:255-1762547400-1762547400@threetunsgateshead.co.uk
SUMMARY:FRI 7 NOV: Tubesnake
DESCRIPTION:
URL:https://threetunsgateshead.co.uk/event/fri-7-nov-tubesnake/
LOCATION:The Three Tuns\, 92 Sheriff's Highway\, Gateshead\, NE9 5SD\, United Kingdom
CATEGORIES:Upcoming Events
ATTACH;FMTTYPE=image/jpeg:https://threetunsgateshead.co.uk/wp-content/uploads/2025/08/tubesnake_logo_001-e1756639358534.jpg
END:VEVENT
BEGIN:VEVENT
DTSTART;TZID=Europe/London:20251101T203000
DTEND;TZID=Europe/London:20251101T223000
DTSTAMP:20260423T154319
CREATED:20250831T111344Z
LAST-MODIFIED:20250831T111344Z
UID:252-1762029000-1762036200@threetunsgateshead.co.uk
SUMMARY:SAT 1 NOV: Hot Sauce
DESCRIPTION:We all love some funked up Motown\, rock and blues\, and no one does it better than Hot Sauce. Stevies Wonder and Ray Vaughan\, some Wild Cherry and so much more.
URL:https://threetunsgateshead.co.uk/event/sat-1-nov-hot-sauce/
LOCATION:The Three Tuns\, 92 Sheriff's Highway\, Gateshead\, NE9 5SD\, United Kingdom
CATEGORIES:Upcoming Events
ATTACH;FMTTYPE=image/jpeg:https://threetunsgateshead.co.uk/wp-content/uploads/2025/08/hotsauce_005-e1756638774302.jpg
END:VEVENT
BEGIN:VEVENT
DTSTART;TZID=Europe/London:20251031T203000
DTEND;TZID=Europe/London:20251031T233000
DTSTAMP:20260423T154319
CREATED:20250830T213309Z
LAST-MODIFIED:20251018T233627Z
UID:245-1761942600-1761953400@threetunsgateshead.co.uk
SUMMARY:FRI 31 OCT: Manny Fagnet Halloween Party
DESCRIPTION:A Three Tuns Halloween Party is always a memorable night\, and this year we’ll have Manny Fagnet to see in the spookiness. \n\n\n\nThis year they’re bringing friends from Cumbria too; the excellent Damaged Goods! \n\n\n\nFancy dress encouraged! \n\n\n\nFind out all about Manny Fagnet here
URL:https://threetunsgateshead.co.uk/event/fri-31-oct-manny-fagnet-halloween-party/
LOCATION:The Three Tuns\, 92 Sheriff's Highway\, Gateshead\, NE9 5SD\, United Kingdom
CATEGORIES:Manny Fagnet,Upcoming Events
ATTACH;FMTTYPE=image/png:https://threetunsgateshead.co.uk/wp-content/uploads/2025/08/band_fagnet_logo_001-e1756640590967.png
END:VEVENT
BEGIN:VEVENT
DTSTART;TZID=Europe/London:20251025T203000
DTEND;TZID=Europe/London:20251025T203000
DTSTAMP:20260423T154319
CREATED:20250818T013827Z
LAST-MODIFIED:20250830T155014Z
UID:200-1761424200-1761424200@threetunsgateshead.co.uk
SUMMARY:SAT 25 OCT: Punk Pop Disaster
DESCRIPTION:It is a guaranteed party when these guys are on the stage. \nFor the very best of American Punk Pop this is where you need to be. There’ll be Green Day\, Alien Ant Farm and all of your favourites.
URL:https://threetunsgateshead.co.uk/event/sat-25-oct-punk-pop-disaster/
LOCATION:The Three Tuns\, 92 Sheriff's Highway\, Gateshead\, NE9 5SD\, United Kingdom
CATEGORIES:Upcoming Events
ATTACH;FMTTYPE=image/jpeg:https://threetunsgateshead.co.uk/wp-content/uploads/2025/08/logo_punkpd-e1755480875800.jpg
END:VEVENT
BEGIN:VEVENT
DTSTART;TZID=Europe/London:20251024T203000
DTEND;TZID=Europe/London:20251024T223000
DTSTAMP:20260423T154319
CREATED:20250831T001600Z
LAST-MODIFIED:20250925T115318Z
UID:248-1761337800-1761345000@threetunsgateshead.co.uk
SUMMARY:FRI 24 OCT: Garageland UK
DESCRIPTION:Garageland UK are a North Yorkshire band bringing some great punk classics for their Tuns debut. \n\n\n\nPlease note\, this replaces the previously advertised Detonators.
URL:https://threetunsgateshead.co.uk/event/fri-24-oct-the-garagelanduk/
LOCATION:The Three Tuns\, 92 Sheriff's Highway\, Gateshead\, NE9 5SD\, United Kingdom
CATEGORIES:Upcoming Events
ATTACH;FMTTYPE=image/jpeg:https://threetunsgateshead.co.uk/wp-content/uploads/2025/08/garageland-UK3-e1758801180295.jpg
END:VEVENT
BEGIN:VEVENT
DTSTART;TZID=Europe/London:20251018T203000
DTEND;TZID=Europe/London:20251018T203000
DTSTAMP:20260423T154319
CREATED:20250830T180236Z
LAST-MODIFIED:20251015T200030Z
UID:242-1760819400-1760819400@threetunsgateshead.co.uk
SUMMARY:SAT 18 OCT: Mojave
DESCRIPTION:Punk\, New Wave and poppy classics. Expect some Blondie\, Bowie and Buzzcocks and lots more besides.
URL:https://threetunsgateshead.co.uk/event/sat-18-oct-mojave/
LOCATION:The Three Tuns\, 92 Sheriff's Highway\, Gateshead\, NE9 5SD\, United Kingdom
CATEGORIES:Upcoming Events
ATTACH;FMTTYPE=image/png:https://threetunsgateshead.co.uk/wp-content/uploads/2025/08/mojave_logo-e1756577652832.png
END:VEVENT
BEGIN:VEVENT
DTSTART;TZID=Europe/London:20251010T203000
DTEND;TZID=Europe/London:20251010T223000
DTSTAMP:20260423T154319
CREATED:20250830T153925Z
LAST-MODIFIED:20251010T195608Z
UID:217-1760128200-1760135400@threetunsgateshead.co.uk
SUMMARY:FRI 10 OCT: Red Hot Chillipinos (RHCP covers band)
DESCRIPTION:We have had these on before\, and as we (and you lot) were so impressed with them we’ve brought them straight back. Expect all your Chili Peppers favourites\, and a few less well known tracks too.
URL:https://threetunsgateshead.co.uk/event/fri-10-oct-red-hot-chillipinos-rhcp-covers-band/
LOCATION:The Three Tuns\, 92 Sheriff's Highway\, Gateshead\, NE9 5SD\, United Kingdom
CATEGORIES:Upcoming Events
ATTACH;FMTTYPE=image/png:https://threetunsgateshead.co.uk/wp-content/uploads/2025/08/band_chillipinos_logo_001-e1756568155610.png
END:VEVENT
BEGIN:VEVENT
DTSTART;TZID=Europe/London:20251005T140000
DTEND;TZID=Europe/London:20251005T180000
DTSTAMP:20260423T154319
CREATED:20250904T045115Z
LAST-MODIFIED:20250917T190214Z
UID:327-1759672800-1759687200@threetunsgateshead.co.uk
SUMMARY:SUN 5 OCT: VINTAGE RECORD SALE
DESCRIPTION:A must for fans of everything vinyl. We are hosting a record fair with Northern Rocks 2 Vintage Vinyl /@Northern Rocks Vintage Vinyl at Kiwi Trading\, Hartlepool’s ONLY Vinyl Emporium. All Records Bought and Sold. Over 20\,000 albums and even more 45’s in stock! \n\n\n\nAll genres covered come hunt out the gem youve always been looking for. \n\n\n\nVinyl will be set up onstage with a chance to listen before you buy.
URL:https://threetunsgateshead.co.uk/event/sun-5-oct-vintage-record-sale/
LOCATION:The Three Tuns\, 92 Sheriff's Highway\, Gateshead\, NE9 5SD\, United Kingdom
CATEGORIES:Upcoming Events
ATTACH;FMTTYPE=image/jpeg:https://threetunsgateshead.co.uk/wp-content/uploads/2025/09/record_fair-e1756961350878.jpg
END:VEVENT
BEGIN:VEVENT
DTSTART;TZID=Europe/London:20251003T080000
DTEND;TZID=Europe/London:20251003T170000
DTSTAMP:20260423T154319
CREATED:20250830T165436Z
LAST-MODIFIED:20250908T182138Z
UID:234-1759478400-1759510800@threetunsgateshead.co.uk
SUMMARY:FRI 3 0CT: Outcast Syndicate
DESCRIPTION:A great band with a whole load of original rock tunes with a layer of punkiness. We’re definitely looking forward to these. That girl can sing!
URL:https://threetunsgateshead.co.uk/event/fri-3-0ct-outcast-syndicate-dirt-monkey/
LOCATION:The Three Tuns\, 92 Sheriff's Highway\, Gateshead\, NE9 5SD\, United Kingdom
CATEGORIES:Upcoming Events
ATTACH;FMTTYPE=image/jpeg:https://threetunsgateshead.co.uk/wp-content/uploads/2025/08/OUTCAST-SYNDICATE-e1756574058826.jpg
END:VEVENT
BEGIN:VEVENT
DTSTART;TZID=Europe/London:20250927T203000
DTEND;TZID=Europe/London:20250927T223000
DTSTAMP:20260423T154319
CREATED:20250908T174948Z
LAST-MODIFIED:20250908T175111Z
UID:512-1759005000-1759012200@threetunsgateshead.co.uk
SUMMARY:SAT 27 SEPT: Pop Rock Riot
DESCRIPTION:Performing rocked up pop songs and Pop Rock Anthems
URL:https://threetunsgateshead.co.uk/event/sat-27-sept-pop-rock-riot/
LOCATION:The Three Tuns\, 92 Sheriff's Highway\, Gateshead\, NE9 5SD\, United Kingdom
CATEGORIES:Upcoming Events
ATTACH;FMTTYPE=image/png:https://threetunsgateshead.co.uk/wp-content/uploads/2025/09/pop_rock_riot_001-e1757353843689.png
END:VEVENT
BEGIN:VEVENT
DTSTART;TZID=Europe/London:20250927T120000
DTEND;TZID=Europe/London:20250927T183000
DTSTAMP:20260423T154319
CREATED:20250813T150543Z
LAST-MODIFIED:20250908T022447Z
UID:116-1758974400-1758997800@threetunsgateshead.co.uk
SUMMARY:SAT  27 SEPT DAYTIME: CMS SHOWCASE
DESCRIPTION:If you’ve never been to one of the CMS Showcases you’re missing a treat. An afternoon of new (or newish) bands\, all full of energy and no cynicism. Always a plethora of musical styles on display. \nThis time we have NEW WAVE\, ZIPWIRE ANGELS\, PLETHORA\, POISON CLAN ROCKS THE WORLD\, TORMENTA\, BOGUS\, DYLAN & EVIE * \n*line ups can change\, but it is always a full afternoon of great music. \n 
URL:https://threetunsgateshead.co.uk/event/sat-27-sept-daytime-cms-showcase/
LOCATION:The Three Tuns\, 92 Sheriff's Highway\, Gateshead\, NE9 5SD\, United Kingdom
CATEGORIES:Upcoming Events
ATTACH;FMTTYPE=image/png:https://threetunsgateshead.co.uk/wp-content/uploads/2025/08/cms_showcase.png
END:VEVENT
BEGIN:VEVENT
DTSTART;TZID=Europe/London:20250920T203000
DTEND;TZID=Europe/London:20250920T223000
DTSTAMP:20260423T154319
CREATED:20250813T040032Z
LAST-MODIFIED:20250917T185329Z
UID:62-1758400200-1758407400@threetunsgateshead.co.uk
SUMMARY:SAT 20 SEPT: TOXIC
DESCRIPTION:Perhaps the region’s top punk band\, and definitely among our Tuns favourites. You’re guaranteed a great show from Toxic. \n\n\n\nExpect The Clash\, The Damned\, Sex Pistols\, SLF\, UK Subs and more!
URL:https://threetunsgateshead.co.uk/event/sat-20-sept-toxic/
CATEGORIES:Upcoming Events
ATTACH;FMTTYPE=image/jpeg:https://threetunsgateshead.co.uk/wp-content/uploads/2025/08/273806537_5038163082888790_2998434629999070022_n-e1755057623510.jpg
END:VEVENT
BEGIN:VEVENT
DTSTART;TZID=Europe/London:20250919T203000
DTEND;TZID=Europe/London:20250919T223000
DTSTAMP:20260423T154319
CREATED:20250813T034617Z
LAST-MODIFIED:20250917T184715Z
UID:58-1758313800-1758321000@threetunsgateshead.co.uk
SUMMARY:FRI 19 SEPT: Paula and The Protons
DESCRIPTION:High energy 5 piece\, bringing popular songs from the 80’s onwards. Blondie\, Bangles\, Billy Idol\, Undertones\, A-Ha\, Kim Wilde and many many more. \n\n\n\nHigh energy 5 piece\, bringing popular songs from the 80’s onwards. Blondie\, Bangles\, Billy Idol\, Undertones\, A-Ha\, Kim Wilde and many many more. Whether you want to dance the night away\, sing-along all night or sit and toe-tap with a pint\, they’re guaranteed to leave you smiling after a great night. \n\n\n\nWhether you want to dance the night away\, sing-along all night or sit and toe-tap with a pint\, they’re guaranteed to leave you smiling after a great night.
URL:https://threetunsgateshead.co.uk/event/fri-19-sept-paula-and-the-protons/
LOCATION:The Three Tuns\, 92 Sheriff's Highway\, Gateshead\, NE9 5SD\, United Kingdom
CATEGORIES:Upcoming Events
ATTACH;FMTTYPE=image/png:https://threetunsgateshead.co.uk/wp-content/uploads/2025/08/paula_protons_001-e1755056761711.png
END:VEVENT
BEGIN:VEVENT
DTSTART;TZID=Europe/London:20250913T200000
DTEND;TZID=Europe/London:20250913T230000
DTSTAMP:20260423T154319
CREATED:20250813T034949Z
LAST-MODIFIED:20250908T022720Z
UID:54-1757793600-1757804400@threetunsgateshead.co.uk
SUMMARY:SAT 13 SEPT: Dead Pollys + Snide Remarks + Loud Mouth
DESCRIPTION:A three band night\, headlined by international punk band The Dead Pollys\, all the way from Sweden to make their Three Tuns return. \nAbly supported once again by Tuns regulars Snide Remarks\, and Loudmouth this night is a punk great combo. \nPLEASE NOTE: This event is organised by the bands themselves and there will be a £5 charge on the door.
URL:https://threetunsgateshead.co.uk/event/sat-13-sept-the-dead-pollys-snide-remarks/
LOCATION:The Three Tuns\, 92 Sheriff's Highway\, Gateshead\, NE9 5SD\, United Kingdom
CATEGORIES:Upcoming Events
ATTACH;FMTTYPE=image/jpeg:https://threetunsgateshead.co.uk/wp-content/uploads/2025/08/dead_pollys_002-1-e1755056979796.jpg
END:VEVENT
BEGIN:VEVENT
DTSTART;TZID=Europe/London:20250912T203000
DTEND;TZID=Europe/London:20250912T223000
DTSTAMP:20260423T154319
CREATED:20250813T032338Z
LAST-MODIFIED:20250813T131034Z
UID:45-1757709000-1757716200@threetunsgateshead.co.uk
SUMMARY:FRI 12 SEPT: Tyne Maiden
DESCRIPTION:This fantastic Iron Maiden tribute band blew us away on their Tuns debut\, and have become mainstays at the City Hall Christmas Rocks. \nThankfully they still come back home to us\, \nWhether you prefer Di’Anno\, Dickinson or Bailey\, If you like Maiden or NWOBHM in general this band are not to be missed.
URL:https://threetunsgateshead.co.uk/event/fri-12-sept-tyne-maiden/
CATEGORIES:Upcoming Events
ATTACH;FMTTYPE=image/jpeg:https://threetunsgateshead.co.uk/wp-content/uploads/2025/08/TyneMaiden_001-scaled-e1755055302853.jpg
END:VEVENT
BEGIN:VEVENT
DTSTART;TZID=Europe/London:20250910T203000
DTEND;TZID=Europe/London:20250910T223000
DTSTAMP:20260423T154319
CREATED:20250813T033051Z
LAST-MODIFIED:20250813T040924Z
UID:50-1757536200-1757543400@threetunsgateshead.co.uk
SUMMARY:WED 10 SEPT: Jay Johnson of Skinny Molly
DESCRIPTION:While we’re waiting for a rescheduled Skinny Molly\, the always excellent Jay Johnson and his lovely lady have agreed to come and entertain us. \nThis is a new one for our calendar\, but we couldn’t turn down such an opportunity.
URL:https://threetunsgateshead.co.uk/event/wed-10-sept-jay-johnson-of-skinny-molly/
CATEGORIES:Upcoming Events
ATTACH;FMTTYPE=image/jpeg:https://threetunsgateshead.co.uk/wp-content/uploads/2025/08/20230521_184925-1-scaled-e1755055767828.jpg
END:VEVENT
BEGIN:VEVENT
DTSTART;TZID=Europe/London:20250905T203000
DTEND;TZID=Europe/London:20250905T223000
DTSTAMP:20260423T154319
CREATED:20250813T145315Z
LAST-MODIFIED:20250901T110535Z
UID:114-1757104200-1757111400@threetunsgateshead.co.uk
SUMMARY:FRI 5 SEPT: The Filth
DESCRIPTION:Jarrow based pop-rock outfit with original songs. \nWith a sound that’s equal parts energetic\, melodic\, and laid back\, The Filth has been making waves with their superb storytelling matched to relatable lyrics and catchy hooks.Jarrow based pop-rock outfit with original material.
URL:https://threetunsgateshead.co.uk/event/fri-5-sept-the-filth/
CATEGORIES:Upcoming Events
ATTACH;FMTTYPE=image/png:https://threetunsgateshead.co.uk/wp-content/uploads/2025/08/the_filth_001-1-e1755096771272.png
END:VEVENT
BEGIN:VEVENT
DTSTART;TZID=Europe/London:20250829T203000
DTEND;TZID=Europe/London:20250829T223000
DTSTAMP:20260423T154319
CREATED:20250813T031534Z
LAST-MODIFIED:20250813T040940Z
UID:42-1756499400-1756506600@threetunsgateshead.co.uk
SUMMARY:FRI 29 AUG: Common People
DESCRIPTION:The very best of 80s and 90’s British guitar pop\, rock and indie classics. Expect some Blur\, Pulp\, Oasis\, Suede and even some older British anthems that influenced the genre.
URL:https://threetunsgateshead.co.uk/event/fri-29-aug-common-people/
CATEGORIES:Upcoming Events
ATTACH;FMTTYPE=image/jpeg:https://threetunsgateshead.co.uk/wp-content/uploads/2025/08/common_people_001-e1755054590256.jpg
END:VEVENT
BEGIN:VEVENT
DTSTART;TZID=Europe/London:20250824T150000
DTEND;TZID=Europe/London:20250824T170000
DTSTAMP:20260423T154319
CREATED:20250813T134013Z
LAST-MODIFIED:20250818T023415Z
UID:103-1756047600-1756054800@threetunsgateshead.co.uk
SUMMARY:SUN 24 AUG: (AFTERNOON): 1977
DESCRIPTION:Punk and New Wave classics\, including Jam\, Stiff Little Fingers\, The Specials\, Sex Pistols and many more.
URL:https://threetunsgateshead.co.uk/event/sun-24-sept-afternoon-1977/
CATEGORIES:Upcoming Events
ATTACH;FMTTYPE=image/jpeg:https://threetunsgateshead.co.uk/wp-content/uploads/2025/08/1977_002-e1755091940166.jpg
END:VEVENT
BEGIN:VEVENT
DTSTART;TZID=Europe/London:20250816T203000
DTEND;TZID=Europe/London:20250816T223000
DTSTAMP:20260423T154319
CREATED:20250813T132112Z
LAST-MODIFIED:20250813T132800Z
UID:100-1755376200-1755383400@threetunsgateshead.co.uk
SUMMARY:SAT 16 AUG: Twin Fire + The Arcadias
DESCRIPTION:Two new bands from our CMS Showcase who blew us away\, and we just had to offer them their own night. \nThe Arcadias bring high energy surfy\, bluesy\, punky\, alternative rock originals. \nTwin Fire are an alt rock band packed with grunge heavy riffs and melodic hooks.
URL:https://threetunsgateshead.co.uk/event/sat-16-aug-twin-fire-the-arcadias/
CATEGORIES:Upcoming Events
ATTACH;FMTTYPE=image/jpeg:https://threetunsgateshead.co.uk/wp-content/uploads/2025/08/twin_fire_arcadias_001-e1755091257292.jpg
END:VEVENT
BEGIN:VEVENT
DTSTART;TZID=Europe/London:20250815T203000
DTEND;TZID=Europe/London:20250815T223000
DTSTAMP:20260423T154319
CREATED:20250813T025801Z
LAST-MODIFIED:20250813T040956Z
UID:39-1755289800-1755297000@threetunsgateshead.co.uk
SUMMARY:FRI 15 AUG: A Band Called Horse
DESCRIPTION:Some excellent classic rock with a southern bias from Eagles\, Steve Earle\, Lynyrd Skynyrd\, ZZ Top\, Neil Young and many more.
URL:https://threetunsgateshead.co.uk/event/fri-15-aug-a-band-called-horse/
CATEGORIES:Upcoming Events
ATTACH;FMTTYPE=image/png:https://threetunsgateshead.co.uk/wp-content/uploads/2025/08/band_horse_logo_001-e1755054290639.png
END:VEVENT
END:VCALENDAR