BEGIN:VCALENDAR
VERSION:2.0
PRODID:-//The Three Tuns - ECPv6.15.17.1//NONSGML v1.0//EN
CALSCALE:GREGORIAN
METHOD:PUBLISH
X-WR-CALNAME:The Three Tuns
X-ORIGINAL-URL:https://threetunsgateshead.co.uk
X-WR-CALDESC:Events for The Three Tuns
REFRESH-INTERVAL;VALUE=DURATION:PT1H
X-Robots-Tag:noindex
X-PUBLISHED-TTL:PT1H
BEGIN:VTIMEZONE
TZID:Europe/London
BEGIN:DAYLIGHT
TZOFFSETFROM:+0000
TZOFFSETTO:+0100
TZNAME:BST
DTSTART:20240331T010000
END:DAYLIGHT
BEGIN:STANDARD
TZOFFSETFROM:+0100
TZOFFSETTO:+0000
TZNAME:GMT
DTSTART:20241027T010000
END:STANDARD
BEGIN:DAYLIGHT
TZOFFSETFROM:+0000
TZOFFSETTO:+0100
TZNAME:BST
DTSTART:20250330T010000
END:DAYLIGHT
BEGIN:STANDARD
TZOFFSETFROM:+0100
TZOFFSETTO:+0000
TZNAME:GMT
DTSTART:20251026T010000
END:STANDARD
BEGIN:DAYLIGHT
TZOFFSETFROM:+0000
TZOFFSETTO:+0100
TZNAME:BST
DTSTART:20260329T010000
END:DAYLIGHT
BEGIN:STANDARD
TZOFFSETFROM:+0100
TZOFFSETTO:+0000
TZNAME:GMT
DTSTART:20261025T010000
END:STANDARD
END:VTIMEZONE
BEGIN:VEVENT
DTSTART;TZID=Europe/London:20251220T203000
DTEND;TZID=Europe/London:20251220T223000
DTSTAMP:20260423T181601
CREATED:20250817T214536Z
LAST-MODIFIED:20251220T022853Z
UID:189-1766262600-1766269800@threetunsgateshead.co.uk
SUMMARY:SAT 20 DEC: Urban Commandos
DESCRIPTION:Punkery with an avant garde twist! Everything from The Clash to Alex Harvey\, via The Sweet\, and a LOT of original songs and local stories. Urban Commandos are not a band you can pigeonhole\, and we’re always glad to have them.
URL:https://threetunsgateshead.co.uk/event/fri-26-sept-urban-commandos/
LOCATION:The Three Tuns\, 92 Sheriff's Highway\, Gateshead\, NE9 5SD\, United Kingdom
CATEGORIES:Upcoming Events,Urban Commandos
ATTACH;FMTTYPE=image/jpeg:https://threetunsgateshead.co.uk/wp-content/uploads/2025/08/urban_commandos_003-e1755466849973.jpg
END:VEVENT
END:VCALENDAR