BEGIN:VCALENDAR
VERSION:2.0
PRODID:-//The Three Tuns - ECPv6.15.17.1//NONSGML v1.0//EN
CALSCALE:GREGORIAN
METHOD:PUBLISH
X-ORIGINAL-URL:https://threetunsgateshead.co.uk
X-WR-CALDESC:Events for The Three Tuns
REFRESH-INTERVAL;VALUE=DURATION:PT1H
X-Robots-Tag:noindex
X-PUBLISHED-TTL:PT1H
BEGIN:VTIMEZONE
TZID:Europe/London
BEGIN:DAYLIGHT
TZOFFSETFROM:+0000
TZOFFSETTO:+0100
TZNAME:BST
DTSTART:20240331T010000
END:DAYLIGHT
BEGIN:STANDARD
TZOFFSETFROM:+0100
TZOFFSETTO:+0000
TZNAME:GMT
DTSTART:20241027T010000
END:STANDARD
BEGIN:DAYLIGHT
TZOFFSETFROM:+0000
TZOFFSETTO:+0100
TZNAME:BST
DTSTART:20250330T010000
END:DAYLIGHT
BEGIN:STANDARD
TZOFFSETFROM:+0100
TZOFFSETTO:+0000
TZNAME:GMT
DTSTART:20251026T010000
END:STANDARD
BEGIN:DAYLIGHT
TZOFFSETFROM:+0000
TZOFFSETTO:+0100
TZNAME:BST
DTSTART:20260329T010000
END:DAYLIGHT
BEGIN:STANDARD
TZOFFSETFROM:+0100
TZOFFSETTO:+0000
TZNAME:GMT
DTSTART:20261025T010000
END:STANDARD
BEGIN:DAYLIGHT
TZOFFSETFROM:+0000
TZOFFSETTO:+0100
TZNAME:BST
DTSTART:20270328T010000
END:DAYLIGHT
BEGIN:STANDARD
TZOFFSETFROM:+0100
TZOFFSETTO:+0000
TZNAME:GMT
DTSTART:20271031T010000
END:STANDARD
END:VTIMEZONE
BEGIN:VEVENT
DTSTART;TZID=Europe/London:20260418T203000
DTEND;TZID=Europe/London:20260418T223000
DTSTAMP:20260423T152252
CREATED:20260404T203925Z
LAST-MODIFIED:20260415T220052Z
UID:1218-1776544200-1776551400@threetunsgateshead.co.uk
SUMMARY:SAT 18 APRIL: Rivet + Ponsaelius + Nathan Johnson
DESCRIPTION:As we continue our drive to be the home for new music in Gateshead\, we are bringing three exciting future prospects to the Tuns stage.
URL:https://threetunsgateshead.co.uk/event/sat-18-april-stellacaster-friends/
LOCATION:The Three Tuns\, 92 Sheriff's Highway\, Gateshead\, NE9 5SD\, United Kingdom
CATEGORIES:Upcoming Events
ATTACH;FMTTYPE=image/webp:https://threetunsgateshead.co.uk/wp-content/uploads/2026/04/rivet-e1776290283432.webp
END:VEVENT
BEGIN:VEVENT
DTSTART;TZID=Europe/London:20260417T203000
DTEND;TZID=Europe/London:20260417T223000
DTSTAMP:20260423T152252
CREATED:20260225T225959Z
LAST-MODIFIED:20260225T230009Z
UID:1105-1776457800-1776465000@threetunsgateshead.co.uk
SUMMARY:FRI 17 APR: The Hybrids
DESCRIPTION:The Hybrids always bring a great selection of rock classics to the Tuns stage. Expect some Whitesnake\, Queen\, The Police and many more to entertain you as this power trio keeps on keeping the spirit of rock alive.
URL:https://threetunsgateshead.co.uk/event/fri-17-apr-the-hybrids/
LOCATION:The Three Tuns\, 92 Sheriff's Highway\, Gateshead\, NE9 5SD\, United Kingdom
CATEGORIES:Upcoming Events
ATTACH;FMTTYPE=image/webp:https://threetunsgateshead.co.uk/wp-content/uploads/2026/01/hybrids3.webp
END:VEVENT
BEGIN:VEVENT
DTSTART;TZID=Europe/London:20260410T203000
DTEND;TZID=Europe/London:20260410T223000
DTSTAMP:20260423T152252
CREATED:20260319T175519Z
LAST-MODIFIED:20260319T175527Z
UID:1200-1775853000-1775860200@threetunsgateshead.co.uk
SUMMARY:FRI 10 APR: Jonny Boyle
DESCRIPTION:It seems like forever since we had the legend that is Jonny Boyle on the Tuns stage\, so we thought it was time we put that right.
URL:https://threetunsgateshead.co.uk/event/fri-10-apr-jonny-boyle/
LOCATION:The Three Tuns\, 92 Sheriff's Highway\, Gateshead\, NE9 5SD\, United Kingdom
CATEGORIES:Upcoming Events
ATTACH;FMTTYPE=image/webp:https://threetunsgateshead.co.uk/wp-content/uploads/2026/03/johnny_boyle_002.webp
END:VEVENT
BEGIN:VEVENT
DTSTART;TZID=Europe/London:20260403T203000
DTEND;TZID=Europe/London:20260403T223000
DTSTAMP:20260423T152252
CREATED:20260129T004446Z
LAST-MODIFIED:20260225T221521Z
UID:1037-1775248200-1775255400@threetunsgateshead.co.uk
SUMMARY:FRI 3 APR: ARCADIAS + POLYFILLAS
DESCRIPTION:The Arcadias return\, with original high energy surfy\, bluesy\, punky Alternative Rock. This time they’re ably supported by The Polyfillas.
URL:https://threetunsgateshead.co.uk/event/fri-3-april-arcadias-polyfillas/
LOCATION:The Three Tuns\, 92 Sheriff's Highway\, Gateshead\, NE9 5SD\, United Kingdom
CATEGORIES:Upcoming Events
ATTACH;FMTTYPE=image/webp:https://threetunsgateshead.co.uk/wp-content/uploads/2026/01/arcadias_001.webp
END:VEVENT
BEGIN:VEVENT
DTSTART;TZID=Europe/London:20260328T203000
DTEND;TZID=Europe/London:20260328T223000
DTSTAMP:20260423T152252
CREATED:20260109T150521Z
LAST-MODIFIED:20260225T221601Z
UID:976-1774729800-1774737000@threetunsgateshead.co.uk
SUMMARY:SAT 28 MAR: ROCK MACHINE
DESCRIPTION:You may not know the name\, but long time live music lovers will definitely recognise some familiar faces.VOCALS: MICK HANBY (Heartbreaker\, Rock Solid\, FM)DRUMS: NATT (The Whole Hog\, Driven Serious\, Sour Dogs)GUITAR: SPIDER (Lock n Load\, Sleeze Sisters\, Traffikers)BASS: GAZ TONE CROFT: (Lock n Load\, Witchkraft\, Heavy Load)They’ll be bringing some power to AC/DC\, Whitesnake\, Free\, Zep\, Gary Moore and so much more!
URL:https://threetunsgateshead.co.uk/event/sat-31-jan-rock-machine/
LOCATION:The Three Tuns\, 92 Sheriff's Highway\, Gateshead\, NE9 5SD\, United Kingdom
CATEGORIES:Upcoming Events
ATTACH;FMTTYPE=image/webp:https://threetunsgateshead.co.uk/wp-content/uploads/2026/01/ROCK_MACHINE_001-1.webp
END:VEVENT
BEGIN:VEVENT
DTSTART;TZID=Europe/London:20260320T203000
DTEND;TZID=Europe/London:20260320T223000
DTSTAMP:20260423T152252
CREATED:20260226T161316Z
LAST-MODIFIED:20260228T170520Z
UID:1149-1774038600-1774045800@threetunsgateshead.co.uk
SUMMARY:FRI 20 MAR: St Patrick's Day Party w. The Quiet Fire
DESCRIPTION:We’ve got something special for Saint Patrick’s Weekend this year. \n\n\n\nThe Quiet Fire will be bringing us the best of Irish party tunes such as The Pogues\, interspersed with some Johnny Cash\, Credence Clearwater Revival and even some Chuck Berry. \n\n\n\nWe have some great drink offers for the day too \n\n\n\n\nJameson’s whisky shots for 99p\n\n\n\nBailey’s cups for £1.99\n\n\n\nGuinness only £3.95\n\n\n\nand have a Steak & Guinness Pie for £2.50
URL:https://threetunsgateshead.co.uk/event/fri-20-mar-st-patricks-day-party-w-the-quiet-fire/
LOCATION:The Three Tuns\, 92 Sheriff's Highway\, Gateshead\, NE9 5SD\, United Kingdom
CATEGORIES:Upcoming Events
ATTACH;FMTTYPE=image/webp:https://threetunsgateshead.co.uk/wp-content/uploads/2026/02/quiet_fire_003.webp
END:VEVENT
BEGIN:VEVENT
DTSTART;TZID=Europe/London:20260314T203000
DTEND;TZID=Europe/London:20260314T223000
DTSTAMP:20260423T152252
CREATED:20260304T214856Z
LAST-MODIFIED:20260304T214911Z
UID:1195-1773520200-1773527400@threetunsgateshead.co.uk
SUMMARY:SAT 14 MAR: Double Denim
DESCRIPTION:Double Denim invite you to experience their acoustic duo act by stepping back into the vibrant world of the 90’s with their charming harmonies and playful arrangements of alternative pop\, indie and dance music!
URL:https://threetunsgateshead.co.uk/event/sat-14-mar-double-denim/
LOCATION:The Three Tuns\, 92 Sheriff's Highway\, Gateshead\, NE9 5SD\, United Kingdom
CATEGORIES:Upcoming Events
ATTACH;FMTTYPE=image/webp:https://threetunsgateshead.co.uk/wp-content/uploads/2026/03/double_denim_001.webp
END:VEVENT
BEGIN:VEVENT
DTSTART;TZID=Europe/London:20260313T203000
DTEND;TZID=Europe/London:20260313T223000
DTSTAMP:20260423T152252
CREATED:20260113T203446Z
LAST-MODIFIED:20260225T221633Z
UID:986-1773433800-1773441000@threetunsgateshead.co.uk
SUMMARY:FRI 13 MAR: GARAGELAND UK
DESCRIPTION:Garageland UK are a North Yorkshire band bringing some great punk classics\, such as Buzzcocks\, Pistols\, Stranglers\, Ramones\, Generation X and many more.
URL:https://threetunsgateshead.co.uk/event/fri-13-mar-garageland-uk/
LOCATION:The Three Tuns\, 92 Sheriff's Highway\, Gateshead\, NE9 5SD\, United Kingdom
CATEGORIES:Upcoming Events
ATTACH;FMTTYPE=image/webp:https://threetunsgateshead.co.uk/wp-content/uploads/2026/01/garageland-UK3.webp
END:VEVENT
BEGIN:VEVENT
DTSTART;TZID=Europe/London:20260306T203000
DTEND;TZID=Europe/London:20260306T223000
DTSTAMP:20260423T152252
CREATED:20260129T131109Z
LAST-MODIFIED:20260225T221707Z
UID:1043-1772829000-1772836200@threetunsgateshead.co.uk
SUMMARY:FRI 6 MAR: FIFTY CAL.
DESCRIPTION:FIFTY CAL. are a band who play great punk covers from the likes of The Sex Pistols\, The Damned\, Stiff Little Fingers and The Ramones\, with some punked up Jam\, The Who and many more.
URL:https://threetunsgateshead.co.uk/event/fri-6-mar-fifty-cal/
LOCATION:The Three Tuns\, 92 Sheriff's Highway\, Gateshead\, NE9 5SD\, United Kingdom
CATEGORIES:Upcoming Events
ATTACH;FMTTYPE=image/webp:https://threetunsgateshead.co.uk/wp-content/uploads/2026/01/fifty_cal_001.webp
END:VEVENT
BEGIN:VEVENT
DTSTART;TZID=Europe/London:20260228T203000
DTEND;TZID=Europe/London:20260228T223000
DTSTAMP:20260423T152252
CREATED:20260111T183553Z
LAST-MODIFIED:20260225T221739Z
UID:981-1772310600-1772317800@threetunsgateshead.co.uk
SUMMARY:SAT 28 FEB: GODZZ OF WOR
DESCRIPTION:We’re glad to welcome Chris\, Bazza and Jim back to The Tuns stage for a great selection of power rock\, including Thin Lizzy\, Gary Moore and of course ZZ Top.
URL:https://threetunsgateshead.co.uk/event/sat-28-feb-godzz-of-wor/
LOCATION:The Three Tuns\, 92 Sheriff's Highway\, Gateshead\, NE9 5SD\, United Kingdom
CATEGORIES:Upcoming Events
ATTACH;FMTTYPE=image/webp:https://threetunsgateshead.co.uk/wp-content/uploads/2026/01/godzzofwor_001-scaled.webp
END:VEVENT
BEGIN:VEVENT
DTSTART;TZID=Europe/London:20260227T203000
DTEND;TZID=Europe/London:20260227T223000
DTSTAMP:20260423T152252
CREATED:20260212T211328Z
LAST-MODIFIED:20260212T211338Z
UID:1066-1772224200-1772231400@threetunsgateshead.co.uk
SUMMARY:FRI 27 FEB: Mad Manners
DESCRIPTION:Mad Manners is a proper party with this one man Madness\, Specials\, Bad Manners and all things ska tribute show.
URL:https://threetunsgateshead.co.uk/event/fri-27-feb-mad-manners/
LOCATION:The Three Tuns\, 92 Sheriff's Highway\, Gateshead\, NE9 5SD\, United Kingdom
CATEGORIES:Upcoming Events
ATTACH;FMTTYPE=image/webp:https://threetunsgateshead.co.uk/wp-content/uploads/2026/02/mad_manners_002.webp
END:VEVENT
BEGIN:VEVENT
DTSTART;TZID=Europe/London:20260222T163000
DTEND;TZID=Europe/London:20260222T183000
DTSTAMP:20260423T152252
CREATED:20260204T201109Z
LAST-MODIFIED:20260204T203629Z
UID:1048-1771777800-1771785000@threetunsgateshead.co.uk
SUMMARY:SUN 22 FEB: Micky Glamz
DESCRIPTION:Well\, it’s time we had another Sunday afternoon treat\, so how about a bit of glam rock?? \n\n\n\nWe have Micky Glamz and his Glam Rock Revolution getting the party going! An incredible One Man Show featuring the most magical songs of the decade from all the glam icons such as Slade\, Sweet\, T.rex\, Bay City Rollers\, Queen\, Mud\, Bowie\, Alice Cooper\, Showaddywaddy and many more!
URL:https://threetunsgateshead.co.uk/event/sun-22-feb-micky-glamz/
LOCATION:The Three Tuns\, 92 Sheriff's Highway\, Gateshead\, NE9 5SD\, United Kingdom
CATEGORIES:Upcoming Events
ATTACH;FMTTYPE=image/webp:https://threetunsgateshead.co.uk/wp-content/uploads/2026/02/micky_glamz_002.webp
END:VEVENT
BEGIN:VEVENT
DTSTART;TZID=Europe/London:20260221T203000
DTEND;TZID=Europe/London:20260221T223000
DTSTAMP:20260423T152252
CREATED:20260212T195529Z
LAST-MODIFIED:20260212T201750Z
UID:1060-1771705800-1771713000@threetunsgateshead.co.uk
SUMMARY:SAT 21 FEB: The Brothel Creepers
DESCRIPTION:The Brothel Creepers may be new to many\, but Tom Atkinson has played The Tuns stage on many a night. \n\n\n\nThere’ll be some Hendrix\, Cream\, Sensational Alex Harvey Band\, Purple\, Bowie\, Beatles and even a bit of the impeccable Spinal Tap. This is one we’re really looking forward to.
URL:https://threetunsgateshead.co.uk/event/sat-21-feb-the-brothel-creepers/
LOCATION:The Three Tuns\, 92 Sheriff's Highway\, Gateshead\, NE9 5SD\, United Kingdom
CATEGORIES:Upcoming Events
ATTACH;FMTTYPE=image/webp:https://threetunsgateshead.co.uk/wp-content/uploads/2026/02/brothel_creepers_001.webp
END:VEVENT
BEGIN:VEVENT
DTSTART;TZID=Europe/London:20260214T203000
DTEND;TZID=Europe/London:20260214T223000
DTSTAMP:20260423T152252
CREATED:20260205T122002Z
LAST-MODIFIED:20260205T122012Z
UID:1053-1771101000-1771108200@threetunsgateshead.co.uk
SUMMARY:SAT 14 FEB: Get A Grip
DESCRIPTION:Get a Grip are not just a superb Stranglers covers band (which they undoubtedly are)\, they also play a few bonus tracks from those other great punk acts too.
URL:https://threetunsgateshead.co.uk/event/sat-14-feb-get-a-grip/
LOCATION:The Three Tuns\, 92 Sheriff's Highway\, Gateshead\, NE9 5SD\, United Kingdom
CATEGORIES:Upcoming Events
ATTACH;FMTTYPE=image/webp:https://threetunsgateshead.co.uk/wp-content/uploads/2026/02/get_a_grip_002.webp
END:VEVENT
BEGIN:VEVENT
DTSTART;TZID=Europe/London:20260213T203000
DTEND;TZID=Europe/London:20260213T223000
DTSTAMP:20260423T152252
CREATED:20260116T162350Z
LAST-MODIFIED:20260116T162500Z
UID:1018-1771014600-1771021800@threetunsgateshead.co.uk
SUMMARY:Fri 13 Feb: TYNE MAIDEN
DESCRIPTION:Everyone’s favourite IRON MAIDEN band make their always triumphant return to the Tuns stage. \n\n\n\nThere’s a reason these guys are the band of choice for Christmas Rocks at Newcastle City Hall. If you like your NWOBHM\, you’ll be mad to miss this one!
URL:https://threetunsgateshead.co.uk/event/fri-13-feb-tyne-maiden/
LOCATION:The Three Tuns\, 92 Sheriff's Highway\, Gateshead\, NE9 5SD\, United Kingdom
CATEGORIES:Upcoming Events
ATTACH;FMTTYPE=image/webp:https://threetunsgateshead.co.uk/wp-content/uploads/2026/01/Tyne_Maiden_004-1.webp
END:VEVENT
BEGIN:VEVENT
DTSTART;TZID=Europe/London:20260207T203000
DTEND;TZID=Europe/London:20260207T223000
DTSTAMP:20260423T152252
CREATED:20260113T204513Z
LAST-MODIFIED:20260113T221804Z
UID:989-1770496200-1770503400@threetunsgateshead.co.uk
SUMMARY:Sat 7 Feb: TOXIC
DESCRIPTION:Toxic\n\n\n\n\n\nPerhaps the region’s most loved punk band\, and definitely among our Tuns favourites. You’re guaranteed a great show from Toxic. \n\n\n\nExpect The Clash\, The Damned\, Sex Pistols\, SLF\, UK Subs and more!
URL:https://threetunsgateshead.co.uk/event/sat-7-feb-toxic/
LOCATION:The Three Tuns\, 92 Sheriff's Highway\, Gateshead\, NE9 5SD\, United Kingdom
CATEGORIES:Upcoming Events
ATTACH;FMTTYPE=image/webp:https://threetunsgateshead.co.uk/wp-content/uploads/2026/01/toxic.webp
END:VEVENT
BEGIN:VEVENT
DTSTART;TZID=Europe/London:20260131T203000
DTEND;TZID=Europe/London:20260131T223000
DTSTAMP:20260423T152252
CREATED:20260113T230233Z
LAST-MODIFIED:20260113T230242Z
UID:994-1769891400-1769898600@threetunsgateshead.co.uk
SUMMARY:Sat 31 Jan: THE LOCAL HEROES
DESCRIPTION:A new one for The Tuns\, this new band celebrates the best of North East music\, from The Animals to Sam Fender\, via Police\, Dire Straits and Lindisfarne.
URL:https://threetunsgateshead.co.uk/event/sat-31-jan-the-local-heroes/
LOCATION:The Three Tuns\, 92 Sheriff's Highway\, Gateshead\, NE9 5SD\, United Kingdom
CATEGORIES:Upcoming Events
ATTACH;FMTTYPE=image/webp:https://threetunsgateshead.co.uk/wp-content/uploads/2026/01/local_heroes_001.webp
END:VEVENT
BEGIN:VEVENT
DTSTART;TZID=Europe/London:20260130T203000
DTEND;TZID=Europe/London:20260130T220000
DTSTAMP:20260423T152252
CREATED:20260109T001053Z
LAST-MODIFIED:20260109T143914Z
UID:963-1769805000-1769810400@threetunsgateshead.co.uk
SUMMARY:Fri 30 Jan: MOJAVE
DESCRIPTION:Punk\, New Wave and poppy classics. Expect some Blondie\, Bowie and Buzzcocks and lots more besides.
URL:https://threetunsgateshead.co.uk/event/fri-30-jan-hybrids/
LOCATION:The Three Tuns\, 92 Sheriff's Highway\, Gateshead\, NE9 5SD\, United Kingdom
CATEGORIES:Upcoming Events
ATTACH;FMTTYPE=image/webp:https://threetunsgateshead.co.uk/wp-content/uploads/2026/01/mojave_logo.webp
END:VEVENT
BEGIN:VEVENT
DTSTART;TZID=Europe/London:20260124T203000
DTEND;TZID=Europe/London:20260124T223000
DTSTAMP:20260423T152252
CREATED:20260109T003058Z
LAST-MODIFIED:20260109T003106Z
UID:966-1769286600-1769293800@threetunsgateshead.co.uk
SUMMARY:Sat 24 Jan: MT ARMS
DESCRIPTION:Loud Electric Rhythm and Blues.
URL:https://threetunsgateshead.co.uk/event/sat-24-jan-mt-arms/
LOCATION:The Three Tuns\, 92 Sheriff's Highway\, Gateshead\, NE9 5SD\, United Kingdom
CATEGORIES:Upcoming Events
ATTACH;FMTTYPE=image/webp:https://threetunsgateshead.co.uk/wp-content/uploads/2026/01/MTArms_001.webp
END:VEVENT
BEGIN:VEVENT
DTSTART;TZID=Europe/London:20260123T203000
DTEND;TZID=Europe/London:20260123T223000
DTSTAMP:20260423T152252
CREATED:20260108T195003Z
LAST-MODIFIED:20260108T195012Z
UID:956-1769200200-1769207400@threetunsgateshead.co.uk
SUMMARY:Fri 23 Jan: SKYCLAD
DESCRIPTION:We are beyond honoured that folk metal pioneers Skyclad have chosen The Three Tuns for their warm up gig before heading out on their tour. This is definitely not one to be missed.
URL:https://threetunsgateshead.co.uk/event/fri-23-jan-skyclad/
LOCATION:The Three Tuns\, 92 Sheriff's Highway\, Gateshead\, NE9 5SD\, United Kingdom
CATEGORIES:Upcoming Events
ATTACH;FMTTYPE=image/webp:https://threetunsgateshead.co.uk/wp-content/uploads/2026/01/skyclad_002.webp
END:VEVENT
BEGIN:VEVENT
DTSTART;TZID=Europe/London:20260116T203000
DTEND;TZID=Europe/London:20260116T223000
DTSTAMP:20260423T152252
CREATED:20260108T191815Z
LAST-MODIFIED:20260108T195402Z
UID:948-1768595400-1768602600@threetunsgateshead.co.uk
SUMMARY:Fri 16 Jan: DANNY NEEDHAM EXPLOSION
DESCRIPTION:When you combine the percussive talent that is Danny Needham\, with north east guitar royalty Russ Tippins\, and the remarkable bass of Craig Stephenson\, you’re guaranteed some “doors-blown-off” rock. Does anyone do it better?
URL:https://threetunsgateshead.co.uk/event/jan-16-danny-needham-explosion/
LOCATION:The Three Tuns\, 92 Sheriff's Highway\, Gateshead\, NE9 5SD\, United Kingdom
CATEGORIES:Upcoming Events
ATTACH;FMTTYPE=image/webp:https://threetunsgateshead.co.uk/wp-content/uploads/2026/01/DANNY_004.webp
END:VEVENT
BEGIN:VEVENT
DTSTART;TZID=Europe/London:20260109T203000
DTEND;TZID=Europe/London:20260109T223000
DTSTAMP:20260423T152252
CREATED:20260108T130447Z
LAST-MODIFIED:20260108T195250Z
UID:944-1767990600-1767997800@threetunsgateshead.co.uk
SUMMARY:Fri 9 Jan: UNDERCOVER
DESCRIPTION:Classic rock band Undercover make their Tuns debut this Friday. \n\n\n\nIt’s a set that includes Van Halen\, Bryan Adams\, Bon Jovi\, Thin Lizzy\, Killers\, AC/DC and many more anthems.
URL:https://threetunsgateshead.co.uk/event/jan-6-undercover/
LOCATION:The Three Tuns\, 92 Sheriff's Highway\, Gateshead\, NE9 5SD\, United Kingdom
CATEGORIES:Upcoming Events
ATTACH;FMTTYPE=image/webp:https://threetunsgateshead.co.uk/wp-content/uploads/2026/01/undercover.webp
END:VEVENT
BEGIN:VEVENT
DTSTART;TZID=Europe/London:20251231T203000
DTEND;TZID=Europe/London:20260101T003000
DTSTAMP:20260423T152252
CREATED:20251127T150737Z
LAST-MODIFIED:20251219T123738Z
UID:810-1767213000-1767227400@threetunsgateshead.co.uk
SUMMARY:NEW YEAR'S PARTY with Manny Fagnet
DESCRIPTION:The Three Tuns New Year Party is always an event much looked forward to on the calendar\, and we’ve had some amazing bands to see the year out\, and this year it falls to Manny Fagnet to count us down. \n\n\n\nJoin us and the boys for the launch of 2026.
URL:https://threetunsgateshead.co.uk/event/new-years-party-with-manny-fagnet/
LOCATION:The Three Tuns\, 92 Sheriff's Highway\, Gateshead\, NE9 5SD\, United Kingdom
CATEGORIES:Manny Fagnet,Upcoming Events
ATTACH;FMTTYPE=image/jpeg:https://threetunsgateshead.co.uk/wp-content/uploads/2025/10/manny_fagnet_007.jpg
END:VEVENT
BEGIN:VEVENT
DTSTART;TZID=Europe/London:20251220T203000
DTEND;TZID=Europe/London:20251220T223000
DTSTAMP:20260423T152252
CREATED:20250817T214536Z
LAST-MODIFIED:20251220T022853Z
UID:189-1766262600-1766269800@threetunsgateshead.co.uk
SUMMARY:SAT 20 DEC: Urban Commandos
DESCRIPTION:Punkery with an avant garde twist! Everything from The Clash to Alex Harvey\, via The Sweet\, and a LOT of original songs and local stories. Urban Commandos are not a band you can pigeonhole\, and we’re always glad to have them.
URL:https://threetunsgateshead.co.uk/event/fri-26-sept-urban-commandos/
LOCATION:The Three Tuns\, 92 Sheriff's Highway\, Gateshead\, NE9 5SD\, United Kingdom
CATEGORIES:Upcoming Events,Urban Commandos
ATTACH;FMTTYPE=image/jpeg:https://threetunsgateshead.co.uk/wp-content/uploads/2025/08/urban_commandos_003-e1755466849973.jpg
END:VEVENT
BEGIN:VEVENT
DTSTART;TZID=Europe/London:20251219T203000
DTEND;TZID=Europe/London:20251219T223000
DTSTAMP:20260423T152252
CREATED:20251103T010419Z
LAST-MODIFIED:20251103T010424Z
UID:781-1766176200-1766183400@threetunsgateshead.co.uk
SUMMARY:FRI 19 DEC: The Abominable Showmen
DESCRIPTION:Our crazy pals The Abominable Showmen bring the fun in the run up to Christmas with their annual festive frolics. There’s always a great selection of rock tunes\, and all for charity as ever.
URL:https://threetunsgateshead.co.uk/event/fri-19-dec-the-abominable-showmen/
LOCATION:The Three Tuns\, 92 Sheriff's Highway\, Gateshead\, NE9 5SD\, United Kingdom
CATEGORIES:Upcoming Events
ATTACH;FMTTYPE=image/jpeg:https://threetunsgateshead.co.uk/wp-content/uploads/2025/11/abominable_showmen_001-e1762131436967.jpg
END:VEVENT
BEGIN:VEVENT
DTSTART;TZID=Europe/London:20251212T203000
DTEND;TZID=Europe/London:20251212T223000
DTSTAMP:20260423T152252
CREATED:20251127T141658Z
LAST-MODIFIED:20251127T141705Z
UID:805-1765571400-1765578600@threetunsgateshead.co.uk
SUMMARY:FRI 12 DEC: The Lost Boys
DESCRIPTION:A night of 80’s classics; Duran Duran\, Deacon Blue\, Spandau Ballet\, Tears for Fears\, Human League and so many more. \n\n\n\nIt was a great decade for music\, and it’ll be a night to look forward to.
URL:https://threetunsgateshead.co.uk/event/fri-12-dec-the-lost-boys/
LOCATION:The Three Tuns\, 92 Sheriff's Highway\, Gateshead\, NE9 5SD\, United Kingdom
CATEGORIES:Upcoming Events
ATTACH;FMTTYPE=image/jpeg:https://threetunsgateshead.co.uk/wp-content/uploads/2025/11/the_lost_boys_002-e1764252915427.jpg
END:VEVENT
BEGIN:VEVENT
DTSTART;TZID=Europe/London:20251206T203000
DTEND;TZID=Europe/London:20251206T223000
DTSTAMP:20260423T152252
CREATED:20250925T122216Z
LAST-MODIFIED:20250925T122224Z
UID:629-1765053000-1765060200@threetunsgateshead.co.uk
SUMMARY:SAT 6 DEC: The Hybrids
DESCRIPTION:The Hybrids have been bringing their great classic rock setlist to the Tuns for a while\, and they never disappoint. \n\n\n\nExpect gems like Queen\, Whitesnake\, The Police\, Dire Straits and many more.  \n\n\n\n\n\nThe Hybrids
URL:https://threetunsgateshead.co.uk/event/sat-6-dec-the-hybrids/
LOCATION:The Three Tuns\, 92 Sheriff's Highway\, Gateshead\, NE9 5SD\, United Kingdom
CATEGORIES:Upcoming Events
ATTACH;FMTTYPE=image/jpeg:https://threetunsgateshead.co.uk/wp-content/uploads/2025/09/hybrids3-e1758802891502.jpg
END:VEVENT
BEGIN:VEVENT
DTSTART;TZID=Europe/London:20251205T203000
DTEND;TZID=Europe/London:20251205T223000
DTSTAMP:20260423T152252
CREATED:20250925T124727Z
LAST-MODIFIED:20250925T124734Z
UID:633-1764966600-1764973800@threetunsgateshead.co.uk
SUMMARY:FRI 5 DEC: The Zoinks + Last Tomorrow
DESCRIPTION:The excellent Zoinks bring an eclectic range of pop\, rock\, punk and new wave anthems. Tonight they’re together with The Last Tomorrow and possibly more take to the Tuns stage.
URL:https://threetunsgateshead.co.uk/event/fri-5-dec-the-zoinks-last-tomorrow/
LOCATION:The Three Tuns\, 92 Sheriff's Highway\, Gateshead\, NE9 5SD\, United Kingdom
CATEGORIES:Upcoming Events
ATTACH;FMTTYPE=image/jpeg:https://threetunsgateshead.co.uk/wp-content/uploads/2025/09/zoinks_001-e1758804355569.jpg
END:VEVENT
BEGIN:VEVENT
DTSTART;TZID=Europe/London:20251129T203000
DTEND;TZID=Europe/London:20251129T223000
DTSTAMP:20260423T152252
CREATED:20251011T001129Z
LAST-MODIFIED:20251105T030546Z
UID:639-1764448200-1764455400@threetunsgateshead.co.uk
SUMMARY:SAT 29 NOV:  Dreadnought
DESCRIPTION:Dreadnought take to the stage with some great rock covers.  \n\n\n\nExpect a varied setlist that will probably feature some Foo Fighters\, Van Halen\, REM\, Ramones\, Green Day\, Buzzcocks\, Reef and lots of other bands you wouldn’t expect on the same show
URL:https://threetunsgateshead.co.uk/event/dreadnought/
LOCATION:The Three Tuns\, 92 Sheriff's Highway\, Gateshead\, NE9 5SD\, United Kingdom
CATEGORIES:Upcoming Events
ATTACH;FMTTYPE=image/png:https://threetunsgateshead.co.uk/wp-content/uploads/2025/10/dreadnaught_001-e1760141477370.png
END:VEVENT
BEGIN:VEVENT
DTSTART;TZID=Europe/London:20251121T203000
DTEND;TZID=Europe/London:20251121T223000
DTSTAMP:20260423T152253
CREATED:20250817T215928Z
LAST-MODIFIED:20251117T150341Z
UID:191-1763757000-1763764200@threetunsgateshead.co.uk
SUMMARY:FRI 21 NOV: 1977
DESCRIPTION:This band needs NO introduction to anyone who’s a Tuns regular. 1977 have been bringing their boundless energy to all the punk classics for many years\, and it’s always great to have them back.
URL:https://threetunsgateshead.co.uk/event/fri-21-nov-the-force/
LOCATION:The Three Tuns\, 92 Sheriff's Highway\, Gateshead\, NE9 5SD\, United Kingdom
CATEGORIES:Upcoming Events
ATTACH;FMTTYPE=image/jpeg:https://threetunsgateshead.co.uk/wp-content/uploads/2025/08/1977_logo-e1763391797295.jpg
END:VEVENT
END:VCALENDAR