BEGIN:VCALENDAR
VERSION:2.0
PRODID:-//The Three Tuns - ECPv6.15.17.1//NONSGML v1.0//EN
CALSCALE:GREGORIAN
METHOD:PUBLISH
X-WR-CALNAME:The Three Tuns
X-ORIGINAL-URL:https://threetunsgateshead.co.uk
X-WR-CALDESC:Events for The Three Tuns
REFRESH-INTERVAL;VALUE=DURATION:PT1H
X-Robots-Tag:noindex
X-PUBLISHED-TTL:PT1H
BEGIN:VTIMEZONE
TZID:Europe/London
BEGIN:DAYLIGHT
TZOFFSETFROM:+0000
TZOFFSETTO:+0100
TZNAME:BST
DTSTART:20250330T010000
END:DAYLIGHT
BEGIN:STANDARD
TZOFFSETFROM:+0100
TZOFFSETTO:+0000
TZNAME:GMT
DTSTART:20251026T010000
END:STANDARD
BEGIN:DAYLIGHT
TZOFFSETFROM:+0000
TZOFFSETTO:+0100
TZNAME:BST
DTSTART:20260329T010000
END:DAYLIGHT
BEGIN:STANDARD
TZOFFSETFROM:+0100
TZOFFSETTO:+0000
TZNAME:GMT
DTSTART:20261025T010000
END:STANDARD
BEGIN:DAYLIGHT
TZOFFSETFROM:+0000
TZOFFSETTO:+0100
TZNAME:BST
DTSTART:20270328T010000
END:DAYLIGHT
BEGIN:STANDARD
TZOFFSETFROM:+0100
TZOFFSETTO:+0000
TZNAME:GMT
DTSTART:20271031T010000
END:STANDARD
END:VTIMEZONE
BEGIN:VEVENT
DTSTART;TZID=Europe/London:20260306T203000
DTEND;TZID=Europe/London:20260306T223000
DTSTAMP:20260423T164441
CREATED:20260129T131109Z
LAST-MODIFIED:20260225T221707Z
UID:1043-1772829000-1772836200@threetunsgateshead.co.uk
SUMMARY:FRI 6 MAR: FIFTY CAL.
DESCRIPTION:FIFTY CAL. are a band who play great punk covers from the likes of The Sex Pistols\, The Damned\, Stiff Little Fingers and The Ramones\, with some punked up Jam\, The Who and many more.
URL:https://threetunsgateshead.co.uk/event/fri-6-mar-fifty-cal/
LOCATION:The Three Tuns\, 92 Sheriff's Highway\, Gateshead\, NE9 5SD\, United Kingdom
CATEGORIES:Upcoming Events
ATTACH;FMTTYPE=image/webp:https://threetunsgateshead.co.uk/wp-content/uploads/2026/01/fifty_cal_001.webp
END:VEVENT
BEGIN:VEVENT
DTSTART;TZID=Europe/London:20260313T203000
DTEND;TZID=Europe/London:20260313T223000
DTSTAMP:20260423T164441
CREATED:20260113T203446Z
LAST-MODIFIED:20260225T221633Z
UID:986-1773433800-1773441000@threetunsgateshead.co.uk
SUMMARY:FRI 13 MAR: GARAGELAND UK
DESCRIPTION:Garageland UK are a North Yorkshire band bringing some great punk classics\, such as Buzzcocks\, Pistols\, Stranglers\, Ramones\, Generation X and many more.
URL:https://threetunsgateshead.co.uk/event/fri-13-mar-garageland-uk/
LOCATION:The Three Tuns\, 92 Sheriff's Highway\, Gateshead\, NE9 5SD\, United Kingdom
CATEGORIES:Upcoming Events
ATTACH;FMTTYPE=image/webp:https://threetunsgateshead.co.uk/wp-content/uploads/2026/01/garageland-UK3.webp
END:VEVENT
BEGIN:VEVENT
DTSTART;TZID=Europe/London:20260314T203000
DTEND;TZID=Europe/London:20260314T223000
DTSTAMP:20260423T164441
CREATED:20260304T214856Z
LAST-MODIFIED:20260304T214911Z
UID:1195-1773520200-1773527400@threetunsgateshead.co.uk
SUMMARY:SAT 14 MAR: Double Denim
DESCRIPTION:Double Denim invite you to experience their acoustic duo act by stepping back into the vibrant world of the 90’s with their charming harmonies and playful arrangements of alternative pop\, indie and dance music!
URL:https://threetunsgateshead.co.uk/event/sat-14-mar-double-denim/
LOCATION:The Three Tuns\, 92 Sheriff's Highway\, Gateshead\, NE9 5SD\, United Kingdom
CATEGORIES:Upcoming Events
ATTACH;FMTTYPE=image/webp:https://threetunsgateshead.co.uk/wp-content/uploads/2026/03/double_denim_001.webp
END:VEVENT
BEGIN:VEVENT
DTSTART;TZID=Europe/London:20260320T203000
DTEND;TZID=Europe/London:20260320T223000
DTSTAMP:20260423T164441
CREATED:20260226T161316Z
LAST-MODIFIED:20260228T170520Z
UID:1149-1774038600-1774045800@threetunsgateshead.co.uk
SUMMARY:FRI 20 MAR: St Patrick's Day Party w. The Quiet Fire
DESCRIPTION:We’ve got something special for Saint Patrick’s Weekend this year. \n\n\n\nThe Quiet Fire will be bringing us the best of Irish party tunes such as The Pogues\, interspersed with some Johnny Cash\, Credence Clearwater Revival and even some Chuck Berry. \n\n\n\nWe have some great drink offers for the day too \n\n\n\n\nJameson’s whisky shots for 99p\n\n\n\nBailey’s cups for £1.99\n\n\n\nGuinness only £3.95\n\n\n\nand have a Steak & Guinness Pie for £2.50
URL:https://threetunsgateshead.co.uk/event/fri-20-mar-st-patricks-day-party-w-the-quiet-fire/
LOCATION:The Three Tuns\, 92 Sheriff's Highway\, Gateshead\, NE9 5SD\, United Kingdom
CATEGORIES:Upcoming Events
ATTACH;FMTTYPE=image/webp:https://threetunsgateshead.co.uk/wp-content/uploads/2026/02/quiet_fire_003.webp
END:VEVENT
BEGIN:VEVENT
DTSTART;TZID=Europe/London:20260328T203000
DTEND;TZID=Europe/London:20260328T223000
DTSTAMP:20260423T164441
CREATED:20260109T150521Z
LAST-MODIFIED:20260225T221601Z
UID:976-1774729800-1774737000@threetunsgateshead.co.uk
SUMMARY:SAT 28 MAR: ROCK MACHINE
DESCRIPTION:You may not know the name\, but long time live music lovers will definitely recognise some familiar faces.VOCALS: MICK HANBY (Heartbreaker\, Rock Solid\, FM)DRUMS: NATT (The Whole Hog\, Driven Serious\, Sour Dogs)GUITAR: SPIDER (Lock n Load\, Sleeze Sisters\, Traffikers)BASS: GAZ TONE CROFT: (Lock n Load\, Witchkraft\, Heavy Load)They’ll be bringing some power to AC/DC\, Whitesnake\, Free\, Zep\, Gary Moore and so much more!
URL:https://threetunsgateshead.co.uk/event/sat-31-jan-rock-machine/
LOCATION:The Three Tuns\, 92 Sheriff's Highway\, Gateshead\, NE9 5SD\, United Kingdom
CATEGORIES:Upcoming Events
ATTACH;FMTTYPE=image/webp:https://threetunsgateshead.co.uk/wp-content/uploads/2026/01/ROCK_MACHINE_001-1.webp
END:VEVENT
END:VCALENDAR