BEGIN:VCALENDAR
VERSION:2.0
PRODID:-//The Three Tuns - ECPv6.15.17.1//NONSGML v1.0//EN
CALSCALE:GREGORIAN
METHOD:PUBLISH
X-ORIGINAL-URL:https://threetunsgateshead.co.uk
X-WR-CALDESC:Events for The Three Tuns
REFRESH-INTERVAL;VALUE=DURATION:PT1H
X-Robots-Tag:noindex
X-PUBLISHED-TTL:PT1H
BEGIN:VTIMEZONE
TZID:Europe/London
BEGIN:DAYLIGHT
TZOFFSETFROM:+0000
TZOFFSETTO:+0100
TZNAME:BST
DTSTART:20250330T010000
END:DAYLIGHT
BEGIN:STANDARD
TZOFFSETFROM:+0100
TZOFFSETTO:+0000
TZNAME:GMT
DTSTART:20251026T010000
END:STANDARD
BEGIN:DAYLIGHT
TZOFFSETFROM:+0000
TZOFFSETTO:+0100
TZNAME:BST
DTSTART:20260329T010000
END:DAYLIGHT
BEGIN:STANDARD
TZOFFSETFROM:+0100
TZOFFSETTO:+0000
TZNAME:GMT
DTSTART:20261025T010000
END:STANDARD
BEGIN:DAYLIGHT
TZOFFSETFROM:+0000
TZOFFSETTO:+0100
TZNAME:BST
DTSTART:20270328T010000
END:DAYLIGHT
BEGIN:STANDARD
TZOFFSETFROM:+0100
TZOFFSETTO:+0000
TZNAME:GMT
DTSTART:20271031T010000
END:STANDARD
END:VTIMEZONE
BEGIN:VEVENT
DTSTART;TZID=Europe/London:20260424T200000
DTEND;TZID=Europe/London:20260424T223000
DTSTAMP:20260423T152237
CREATED:20260225T232938Z
LAST-MODIFIED:20260225T232946Z
UID:1108-1777060800-1777069800@threetunsgateshead.co.uk
SUMMARY:FRI 24 APR: Blitzkrieg + Yesterday's Heroes
DESCRIPTION:This one is rescheduled from last year\, and we can’t wait. Blitzkrieg are a punk band with a long history\, and have been recording and performing since the 70’s. \n\n\n\nAnd of course we all know Yesterday’s Heroes\, as three of our own- Lewis Johnson\, Tony and Scott Tulip and the rest of the band\, bringing their great set of punk covers and originals back to the Three Tuns.
URL:https://threetunsgateshead.co.uk/event/fri-24-apr-blitzkrieg-yesterdays-heroes/
LOCATION:The Three Tuns\, 92 Sheriff's Highway\, Gateshead\, NE9 5SD\, United Kingdom
CATEGORIES:Upcoming Events
ATTACH;FMTTYPE=image/webp:https://threetunsgateshead.co.uk/wp-content/uploads/2026/02/blitzkreig_002.webp
END:VEVENT
END:VCALENDAR